BEGIN:VCALENDAR
VERSION:2.0
PRODID:-//Club Trinat - ECPv6.15.15//NONSGML v1.0//EN
CALSCALE:GREGORIAN
METHOD:PUBLISH
X-WR-CALNAME:Club Trinat
X-ORIGINAL-URL:https://www.clubtrinat.com
X-WR-CALDESC:Eventos para Club Trinat
REFRESH-INTERVAL;VALUE=DURATION:PT1H
X-Robots-Tag:noindex
X-PUBLISHED-TTL:PT1H
BEGIN:VTIMEZONE
TZID:Europe/Madrid
BEGIN:DAYLIGHT
TZOFFSETFROM:+0100
TZOFFSETTO:+0200
TZNAME:CEST
DTSTART:20250330T010000
END:DAYLIGHT
BEGIN:STANDARD
TZOFFSETFROM:+0200
TZOFFSETTO:+0100
TZNAME:CET
DTSTART:20251026T010000
END:STANDARD
BEGIN:DAYLIGHT
TZOFFSETFROM:+0100
TZOFFSETTO:+0200
TZNAME:CEST
DTSTART:20260329T010000
END:DAYLIGHT
BEGIN:STANDARD
TZOFFSETFROM:+0200
TZOFFSETTO:+0100
TZNAME:CET
DTSTART:20261025T010000
END:STANDARD
BEGIN:DAYLIGHT
TZOFFSETFROM:+0100
TZOFFSETTO:+0200
TZNAME:CEST
DTSTART:20270328T010000
END:DAYLIGHT
BEGIN:STANDARD
TZOFFSETFROM:+0200
TZOFFSETTO:+0100
TZNAME:CET
DTSTART:20271031T010000
END:STANDARD
END:VTIMEZONE
BEGIN:VEVENT
DTSTART;TZID=Europe/Madrid:20260301T090000
DTEND;TZID=Europe/Madrid:20260301T120000
DTSTAMP:20260424T102846
CREATED:20260123T083724Z
LAST-MODIFIED:20260223T115356Z
UID:7900-1772355600-1772366400@www.clubtrinat.com
SUMMARY:Carrera de la primavera-Año chino
DESCRIPTION:El Año Nuevo Lunar\, más conocido como la Fiesta de la Primavera o Año Nuevo chino\, es la festividad tradicional más importante del año en el calendario chino. \nPara celebrarlo por todo lo alto\, el 1 de marzo llega\, con nuevos recorridos\, a las calles de Madrid. \nLa Carrera de la Primavera Comunidad de Madrid 2026 – Año del caballo \nFamiliar y festiva\, en la Carrero de la Primavera teñiremos el Paseo de la Castellana de rojo\, el color de la buena suerte de la tradición china\, para comenzar el año de la mejor manera posible: disfrutando del running. \nCon salida y meta en el Puente el Rey\, se podrá escoger entre las distancias de 5\, 8 y 16 kilómetros\, con paso por la Casa de Campo para las distancias más largas\, \n¡Para que cada uno encuentre su propio desafío y su forma de dar la bienvenida al Año del caballo! \nTrinaters inscritos: Joaquin\, Sergio\, Rober\,
URL:https://www.clubtrinat.com/evento/carrera-de-la-primavera-ano-chino/
LOCATION:Madrid\, Glorieta de Emilio Castelar\, Madrid\, España
CATEGORIES:10K,5k
ATTACH;FMTTYPE=image/png:https://www.clubtrinat.com/wordpress/wp-content/uploads/2026/01/Captura-de-pantalla-2026-01-23-a-las-9.31.09.png
END:VEVENT
BEGIN:VEVENT
DTSTART;TZID=Europe/Madrid:20260301T100000
DTEND;TZID=Europe/Madrid:20260301T120000
DTSTAMP:20260424T102846
CREATED:20260220T094155Z
LAST-MODIFIED:20260220T094156Z
UID:7953-1772359200-1772366400@www.clubtrinat.com
SUMMARY:10k Illescas
DESCRIPTION:Deporte\nAtletismo\n\n\nEspecialidad Deportiva\nRunning\, Carrera Popular\n\n\nPlazo de inscripción\nDel 27 nov. 2025 a las 0:00 al 26 feb. 2026 a las 12:00\n\n\nFecha del evento\n1 mar. 2026 a las 10:00\n\n\nLugar\nCalle Misiones Pedagógicas\, 45200 Illescas (Toledo)\, España\n\n\nOrganizador\nE3 EVENTOS\n\n\n\nTrinaters inscritos: Santi\,
URL:https://www.clubtrinat.com/evento/10k-illescas/
LOCATION:illescas\, Illescas\, Toledo\, Spain
CATEGORIES:10K,Competiciones
ATTACH;FMTTYPE=image/jpeg:https://www.clubtrinat.com/wordpress/wp-content/uploads/2026/02/6990_evento_26610_cartel.jpg
END:VEVENT
END:VCALENDAR