BEGIN:VCALENDAR
VERSION:2.0
PRODID:-//Club Trinat - ECPv6.15.15//NONSGML v1.0//EN
CALSCALE:GREGORIAN
METHOD:PUBLISH
X-WR-CALNAME:Club Trinat
X-ORIGINAL-URL:https://www.clubtrinat.com
X-WR-CALDESC:Eventos para Club Trinat
REFRESH-INTERVAL;VALUE=DURATION:PT1H
X-Robots-Tag:noindex
X-PUBLISHED-TTL:PT1H
BEGIN:VTIMEZONE
TZID:Europe/Madrid
BEGIN:DAYLIGHT
TZOFFSETFROM:+0100
TZOFFSETTO:+0200
TZNAME:CEST
DTSTART:20240331T010000
END:DAYLIGHT
BEGIN:STANDARD
TZOFFSETFROM:+0200
TZOFFSETTO:+0100
TZNAME:CET
DTSTART:20241027T010000
END:STANDARD
BEGIN:DAYLIGHT
TZOFFSETFROM:+0100
TZOFFSETTO:+0200
TZNAME:CEST
DTSTART:20250330T010000
END:DAYLIGHT
BEGIN:STANDARD
TZOFFSETFROM:+0200
TZOFFSETTO:+0100
TZNAME:CET
DTSTART:20251026T010000
END:STANDARD
BEGIN:DAYLIGHT
TZOFFSETFROM:+0100
TZOFFSETTO:+0200
TZNAME:CEST
DTSTART:20260329T010000
END:DAYLIGHT
BEGIN:STANDARD
TZOFFSETFROM:+0200
TZOFFSETTO:+0100
TZNAME:CET
DTSTART:20261025T010000
END:STANDARD
END:VTIMEZONE
BEGIN:VEVENT
DTSTART;TZID=Europe/Madrid:20251102T093000
DTEND;TZID=Europe/Madrid:20251102T110000
DTSTAMP:20260425T195545
CREATED:20251031T083103Z
LAST-MODIFIED:20251031T083103Z
UID:7687-1762075800-1762081200@www.clubtrinat.com
SUMMARY:VIII Carrera GO fit Vallehermoso x World Vision
DESCRIPTION:Ya está aquí la VIII Carrera solidaria 10k GO fit Vallehermoso x World Vision. Los runners soñamos con carreras como esta. Por el centro de Madrid\, rodeados de campeones olímpicos y medallistas como Ruth Beitia\, Fermín Cacho o Antonio Reina y grandes atletas\, llegando a meta al mítico Estadio de atletismo de Vallehermoso.\n¡Siente la energía bajo tus pies!\nUna carrera homologada en la distancia de 10 km e incluida en el calendario nacional y autonómico de las Federaciones Española y Madrileña de Atletismo.\nRecorrido urbano con final en el Estadio de Vallehermoso. Desde el corazón del distrito de Chamberí y junto a GO fit Vallehermoso\, se dará la salida.\nUna carrera solidaria que permitirá a personas desfavorecidas tener acceso a algo tan básico como el agua. Inscríbete\, una parte de tu inscripción irá a esta causa\, construyendo un pozo de agua limpia en una aldea en Ghana. Igualmente\, puedes hacer una pequeña donación en el momento de compra de tu dorsal.\n\nTrinaters inscrit@s: Ane\,
URL:https://www.clubtrinat.com/evento/viii-carrera-go-fit-vallehermoso-x-world-vision/
LOCATION:Gofit vallehermoso\, Madrid
CATEGORIES:10K,Competiciones
ATTACH;FMTTYPE=image/png:https://www.clubtrinat.com/wordpress/wp-content/uploads/2025/10/Captura-de-pantalla-2025-10-31-a-las-9.26.28.png
END:VEVENT
BEGIN:VEVENT
DTSTART;TZID=Europe/Madrid:20251109T100000
DTEND;TZID=Europe/Madrid:20251109T130000
DTSTAMP:20260425T195545
CREATED:20250421T092608Z
LAST-MODIFIED:20250909T081252Z
UID:7318-1762682400-1762693200@www.clubtrinat.com
SUMMARY:Behobia-SS 2025
DESCRIPTION:El CLUB DEPORTIVO FORTUNA\, con el patrocinio de Joma\, organiza la 60a edición de la Carrera Pedestre BEHOBIA-SAN SEBASTIAN\, que se celebrará el 9 de noviembre de 2025\, sobre una distancia de 20 kilómetros\, en la que podrá participar toda persona que tenga 16 años el día de la carrera y que no tenga sanción federativa. El cupo máximo de participación se fija en 28.000 atletas. \nTrinaters inscrit@s: Isoseba\, Sergio\, 
URL:https://www.clubtrinat.com/evento/behobia-ss-2025/
LOCATION:Behobia\, Behobia (Irun)\, Irun\, España
CATEGORIES:Competiciones,Media Maratón
ATTACH;FMTTYPE=image/png:https://www.clubtrinat.com/wordpress/wp-content/uploads/2025/04/Captura-de-pantalla-2025-04-21-a-las-11.22.48.png
END:VEVENT
BEGIN:VEVENT
DTSTART;TZID=Europe/Madrid:20251109T120000
DTEND;TZID=Europe/Madrid:20251109T150000
DTSTAMP:20260425T195545
CREATED:20251001T072736Z
LAST-MODIFIED:20251001T072736Z
UID:7635-1762689600-1762700400@www.clubtrinat.com
SUMMARY:Duatlón Venturada
DESCRIPTION:DOMINGO 9 DE NOVIEMBRE DE 2025 (HORARIOS PROVISIONALES): \n10:00 h. – Comienzo entrega de dorsales.  \n12:00 h. – Salida carrera individual masculina. \n12:05 h. – Salida carrera individual femenina. \n13:45 h. – Entrega de trofeos. \nRecogida de dorsales POLIDEPORTIVO MINICIPAL DE VENTURADA. DOMINGO 9 DE NOVIEMBRE DE 2025 \nApertura Área de transición. DOMINGO 9 DE NOVIEMBRE  de 11:00 a 11:45. \nTrinaters inscrit@s: Victor\,
URL:https://www.clubtrinat.com/evento/duatlon-venturada/
LOCATION:Venturada\, Madrid\, Madrid\, Spain
CATEGORIES:Competiciones,Duatlon
ATTACH;FMTTYPE=image/png:https://www.clubtrinat.com/wordpress/wp-content/uploads/2025/10/Captura-de-pantalla-2025-10-01-a-las-9.25.49.png
END:VEVENT
BEGIN:VEVENT
DTSTART;TZID=Europe/Madrid:20251115T090000
DTEND;TZID=Europe/Madrid:20251115T130000
DTSTAMP:20260425T195545
CREATED:20251001T073807Z
LAST-MODIFIED:20251001T073807Z
UID:7644-1763197200-1763211600@www.clubtrinat.com
SUMMARY:I Travesía a nado Contra el Cáncer con aletas Playa de Alboraya
DESCRIPTION:Datos básicos\n\nCuándo: Sábado\, 15 de noviembre de 2025 a las 9:00\nLugar: Playa La Patacona\, Avinguda Mare Nostrum nº 23\, junto a Plaza Juan Baptista Basset\nPoblación: Avinguda Mare Nostrum\, 15\, Alboraia\nProvincia: Valencia/València\nFechas de inscripción: Del 03/07/2025 a las 10:00 al 12/11/2025 a las 23:59\n\nTrinaters inscrit@s: Renato\,
URL:https://www.clubtrinat.com/evento/i-travesia-a-nado-contra-el-cancer-con-aletas-playa-de-alboraya/
LOCATION:Playa Patacona Alborada\, Valencia
CATEGORIES:Competiciones,Natación
ATTACH;FMTTYPE=image/png:https://www.clubtrinat.com/wordpress/wp-content/uploads/2025/10/Captura-de-pantalla-2025-10-01-a-las-9.35.55.png
END:VEVENT
BEGIN:VEVENT
DTSTART;TZID=Europe/Madrid:20251115T100000
DTEND;TZID=Europe/Madrid:20251115T120000
DTSTAMP:20260425T195545
CREATED:20251015T091323Z
LAST-MODIFIED:20251114T084428Z
UID:7672-1763200800-1763208000@www.clubtrinat.com
SUMMARY:Moraltrail 2025
DESCRIPTION:La 12ª Carrera por Montaña “MORALTRAIL RACE” se celebrará el 15 de noviembre de 2025 y estará organizada por la entidad CULMINIS-YouEvent en colaboración con el Ayuntamiento de Moralzarzal. Dentro de la jornada\, se llevarán a cabo dos carreras: \n\nMoralTrail Race 9K con salida a las 10:00 horas.\nMoralTrail Race 17K con salida también a las 10:30 horas.\n\nTrinaters inscrit@s: Victor\, Tato\, Gas\, Jaime\, Fonso\, Rober
URL:https://www.clubtrinat.com/evento/moraltrail-2025/
LOCATION:Moralzarzal\, Plaza de Los Caños\, Moralzarzal\, España
CATEGORIES:Competiciones,Trail
ATTACH;FMTTYPE=image/png:https://www.clubtrinat.com/wordpress/wp-content/uploads/2025/10/Captura-de-pantalla-2025-10-15-a-las-11.05.40.png
END:VEVENT
BEGIN:VEVENT
DTSTART;TZID=Europe/Madrid:20251116T100000
DTEND;TZID=Europe/Madrid:20251116T130000
DTSTAMP:20260425T195545
CREATED:20251114T084832Z
LAST-MODIFIED:20251114T084845Z
UID:7729-1763287200-1763298000@www.clubtrinat.com
SUMMARY:Du road Navalcarnero
DESCRIPTION:DU ROAD NAVALCARNERO el 16 de Noviembre 2025. 2.PARTICIPANTES: \na. Podrán participar\, todos aquellos deportistas\, federados o no federados\, que realicen su inscripción en la forma establecida en el presente reglamento. \nb. Es responsabilidad del participante estar bien preparado para la prueba. Es decir\, gozar de buena salud física en general\, así como tener un nivel aceptable de preparación física y dominio técnico de la bicicleta. \nTrinaters inscrit@s: Marga
URL:https://www.clubtrinat.com/evento/duroad-navalcarnero/
LOCATION:Navalcarnero\, Madrid\, Madrid\, Spain
CATEGORIES:Competiciones,Duatlon
ATTACH;FMTTYPE=image/png:https://www.clubtrinat.com/wordpress/wp-content/uploads/2025/11/Captura-de-pantalla-2025-11-14-a-las-9.42.39.png
END:VEVENT
BEGIN:VEVENT
DTSTART;TZID=Europe/Madrid:20251122T173000
DTEND;TZID=Europe/Madrid:20251122T183000
DTSTAMP:20260425T195545
CREATED:20250120T083834Z
LAST-MODIFIED:20251001T073024Z
UID:7168-1763832600-1763836200@www.clubtrinat.com
SUMMARY:10k- Benidorm Half
DESCRIPTION:Un recorrido para disfrutar la ciudad sin perderte la esencia del Benidorm Half\nTrinaters inscrit@s: Ana
URL:https://www.clubtrinat.com/evento/10k-benidorm-half/
LOCATION:Benidorm\, Spain
CATEGORIES:10K,Competiciones
ATTACH;FMTTYPE=image/png:https://www.clubtrinat.com/wordpress/wp-content/uploads/2025/01/Captura-de-pantalla-2025-01-20-a-las-9.35.18.png
END:VEVENT
BEGIN:VEVENT
DTSTART;TZID=Europe/Madrid:20251123T090000
DTEND;TZID=Europe/Madrid:20251123T103000
DTSTAMP:20260425T195545
CREATED:20251119T085601Z
LAST-MODIFIED:20251119T085601Z
UID:7760-1763888400-1763893800@www.clubtrinat.com
SUMMARY:Zara Athleticz Speed Run 2025
DESCRIPTION:El día 23 de noviembre de 2025 se celebra la 2ª edición de la Zara Athleticz Speed Run\, que se disputa por las calles de Madrid a partir de las 9:00 horas. \nLa carrera contará con varias salidas por tiempos\, para asegurar que puedes hacer la marca que estás buscando\, corriendo con gente de tu nivel. \nLos horarios de las oleadas serán: \n\n/ primera oleada: 09:00 h.\n/ segunda oleada: 09:05 h.\n/ tercera oleada: 09:10 h.\n/ cuarta oleada: 09:15 h.\n\nTrinaters inscrit@s: Lola\,
URL:https://www.clubtrinat.com/evento/zara-athleticz-speed-run-2025/
LOCATION:Madrid\, Puerta del Sol-Preciados\, Madrid\, Madrid\, Spain
CATEGORIES:10K,Competiciones
ATTACH;FMTTYPE=image/png:https://www.clubtrinat.com/wordpress/wp-content/uploads/2025/11/Captura-de-pantalla-2025-11-19-a-las-9.54.45.png
END:VEVENT
BEGIN:VEVENT
DTSTART;TZID=Europe/Madrid:20251123T100000
DTEND;TZID=Europe/Madrid:20251123T140000
DTSTAMP:20260425T195545
CREATED:20251008T074722Z
LAST-MODIFIED:20251008T074722Z
UID:7656-1763892000-1763906400@www.clubtrinat.com
SUMMARY:Duatlón Cross Majadahonda
DESCRIPTION:El Duatlón Cross Majadahonda “Fiestas de Santa Catalina” es una prueba organizada por el Club Ciclista Majadahonda en colaboración con el Exmo. Ayuntamiento de Majadahonda. Todos los beneficios de la prueba irán destinados a la Asociación Syngap1 España. \nFECHA Y LUGAR: \nEl 23 de Noviembre 2025 a las 10:00 am\, en el Recinto Ferial de Majadahonda. \nTrinaters inscritos: Clede\,
URL:https://www.clubtrinat.com/evento/duatlon-cross-majadahonda/
LOCATION:Majadahonda\, Madrid\, Madrid\, Spain
CATEGORIES:Competiciones,Duatlon
ATTACH;FMTTYPE=image/png:https://www.clubtrinat.com/wordpress/wp-content/uploads/2025/10/Captura-de-pantalla-2025-10-08-a-las-9.44.44.png
END:VEVENT
BEGIN:VEVENT
DTSTART;TZID=Europe/Madrid:20251130T080000
DTEND;TZID=Europe/Madrid:20251130T170000
DTSTAMP:20260425T195545
CREATED:20250908T095736Z
LAST-MODIFIED:20250908T095736Z
UID:7560-1764489600-1764522000@www.clubtrinat.com
SUMMARY:Maratón Elche- Alicante
DESCRIPTION:La MARATÓN INTERNACIONAL ELCHE-ALICANTE\, es una prueba que forma parte del calendario internacional de la REAL FEDERACIÓN ESPAÑOLA DE ATLETISMO (RFEA) organizada por el Club Atlético Montemar y con la colaboración de los Ayuntamientos de Alicante y Elche.\nLos jueces designados por la RFEA y la Federación de Atletismo de la Comunidad Valenciana velarán por el cumplimento del reglamento. El circuito de 42\,195 km de la MARATÓN INTERNACIONAL ELCHE-ALICANTE está homologado por la REAL FEDERACIÓN ESPAÑOLA DE ATLETISMO. \nTrinaters inscritos: Denis\,
URL:https://www.clubtrinat.com/evento/maraton-elche-alicante/
LOCATION:Elche\, Spain
CATEGORIES:Competiciones,Marathon
ATTACH;FMTTYPE=image/png:https://www.clubtrinat.com/wordpress/wp-content/uploads/2025/09/Captura-de-pantalla-2025-09-08-a-las-11.55.06.png
END:VEVENT
BEGIN:VEVENT
DTSTART;TZID=Europe/Madrid:20251130T090000
DTEND;TZID=Europe/Madrid:20251130T120000
DTSTAMP:20260425T195545
CREATED:20251128T092719Z
LAST-MODIFIED:20251128T092749Z
UID:7827-1764493200-1764504000@www.clubtrinat.com
SUMMARY:Carrera-Marcha Cerro Marmota
DESCRIPTION:El domingo 30 de noviembre de 2025 tendrá lugar la XIV edición de la Carrera/Marcha popular “Cerro Marmota” de Colmenar Viejo\, sobre un circuito natural de aproximadamente 10 Y 20 Km. Dicho circuito se desarrolla\, casi en su totalidad\, por caminos colindantes al Parque Natural de la Cuenca Alta del Manzanares. ART. 2º.- La salida y meta tendrán lugar desde la calle de Los Tintes\, en las cercanías del Polideportivo “La Magdalena”. Las diferentes salidas de las pruebas tendrán el siguiente horario: MARCHA 20 – 09:00 H CARRERA 20 – 10:00 H CARRERA 10 – 11:00 H MARCHA 10 – 11:10 H \nTrinaters inscritos: Sergio\, Javi\,
URL:https://www.clubtrinat.com/evento/carrera-marcha-cerro-marmota/
LOCATION:colmenar viejo\, Colmenar Viejo\, Madrid\, Spain
CATEGORIES:Competiciones,Media Maratón,Trail
ATTACH;FMTTYPE=image/jpeg:https://www.clubtrinat.com/wordpress/wp-content/uploads/2025/11/CARTEL-SENDERISMO.jpg
END:VEVENT
BEGIN:VEVENT
DTSTART;TZID=Europe/Madrid:20251130T110000
DTEND;TZID=Europe/Madrid:20251130T130000
DTSTAMP:20260425T195545
CREATED:20251128T093618Z
LAST-MODIFIED:20251128T093618Z
UID:7833-1764500400-1764507600@www.clubtrinat.com
SUMMARY:XXII CROSS POPULAR SALVAR EL PINAR DE LA ELIPA
DESCRIPTION:Cuándo: Domingo\, 30 de noviembre de 2025 a las 11:00\nLugar: Calle del Poeta Blas de Otero\nPoblación: C. del Poeta Blas de Otero\, Madrid\nProvincia: Madrid\nFechas de inscripción: Del 20/10/2025 a las 0:00 al 29/11/2025 a las 23:59\n\nTrinaters inscritos: Fonso\,
URL:https://www.clubtrinat.com/evento/xxii-cross-popular-salvar-el-pinar-de-la-elipa/
LOCATION:Pinar de la Elipa\, Madrid
CATEGORIES:Competiciones,Trail
ATTACH;FMTTYPE=image/jpeg:https://www.clubtrinat.com/wordpress/wp-content/uploads/2025/11/21250787-5d2b-4206-a457-70e20a5faa0f-2-scaled.jpg
END:VEVENT
BEGIN:VEVENT
DTSTART;TZID=Europe/Madrid:20251130T113000
DTEND;TZID=Europe/Madrid:20251130T130000
DTSTAMP:20260425T195545
CREATED:20251031T084825Z
LAST-MODIFIED:20251031T084825Z
UID:7691-1764502200-1764507600@www.clubtrinat.com
SUMMARY:Trofeo Jose Cano 2025
DESCRIPTION:Otro año más celebramos con vosotros una nueva edición de la carrera de Canillejas. Con esta 45 edición\, volvemos con la misma fuerza que otros años y con muchas ganas de fomentar el deporte sobre todo entre los más jóvenes. Como siempre tendremos nuestras carreras para categorías de menores y los 10 k. ¡Os esperamos a todos y todas el 30 de noviembre en Canillejas! \nTrinaters inscrit@s: Victor\,
URL:https://www.clubtrinat.com/evento/trofeo-jose-cano-2025/
LOCATION:Canillejas\, Madrid\, Madrid\, España
CATEGORIES:10K,Competiciones
ATTACH;FMTTYPE=image/png:https://www.clubtrinat.com/wordpress/wp-content/uploads/2025/10/Captura-de-pantalla-2025-10-31-a-las-9.43.13.png
END:VEVENT
END:VCALENDAR