BEGIN:VCALENDAR
VERSION:2.0
PRODID:-//Club Trinat - ECPv6.15.15//NONSGML v1.0//EN
CALSCALE:GREGORIAN
METHOD:PUBLISH
X-WR-CALNAME:Club Trinat
X-ORIGINAL-URL:https://www.clubtrinat.com
X-WR-CALDESC:Eventos para Club Trinat
REFRESH-INTERVAL;VALUE=DURATION:PT1H
X-Robots-Tag:noindex
X-PUBLISHED-TTL:PT1H
BEGIN:VTIMEZONE
TZID:Europe/Madrid
BEGIN:DAYLIGHT
TZOFFSETFROM:+0100
TZOFFSETTO:+0200
TZNAME:CEST
DTSTART:20240331T010000
END:DAYLIGHT
BEGIN:STANDARD
TZOFFSETFROM:+0200
TZOFFSETTO:+0100
TZNAME:CET
DTSTART:20241027T010000
END:STANDARD
BEGIN:DAYLIGHT
TZOFFSETFROM:+0100
TZOFFSETTO:+0200
TZNAME:CEST
DTSTART:20250330T010000
END:DAYLIGHT
BEGIN:STANDARD
TZOFFSETFROM:+0200
TZOFFSETTO:+0100
TZNAME:CET
DTSTART:20251026T010000
END:STANDARD
BEGIN:DAYLIGHT
TZOFFSETFROM:+0100
TZOFFSETTO:+0200
TZNAME:CEST
DTSTART:20260329T010000
END:DAYLIGHT
BEGIN:STANDARD
TZOFFSETFROM:+0200
TZOFFSETTO:+0100
TZNAME:CET
DTSTART:20261025T010000
END:STANDARD
END:VTIMEZONE
BEGIN:VEVENT
DTSTART;TZID=Europe/Madrid:20250810T080000
DTEND;TZID=Europe/Madrid:20250810T170000
DTSTAMP:20260426T024236
CREATED:20250728T085954Z
LAST-MODIFIED:20250728T085954Z
UID:7485-1754812800-1754845200@www.clubtrinat.com
SUMMARY:Ancares Cycling Marathon
DESCRIPTION:¡Te esperamos en una nueva aventura!\n\n\n\n\nDesde los infinitos perfiles y los inmensos valles de las montañas lucenses de Os Ancares\, uno de los paisajes más hermosos\, salvajes y aislados de Galicia\,  en 2025 volveremos a disfrutar de una nueva edición de Ancares Cycling Marathon. \nEsta prueba nació en 2021 con el objetivo de consolidarse como el Gran Fondo de alta montaña referente en Galicia\, así como de apostar por el ciclismo de interior y promocionar y dar a conocer esta zona a través de un deporte que encaja\, a la perfección\, en sus carreteras infinitas y el necesario cuidado del medio ambiente. Luego de una exitosa primera edición\, donde más de 500 corredores afrontaron el exigente recorrido presentado por la organización\, en 2025 proponemos dos nuevas opciones de ruta. \nTrinaters inscritos: Diego\, Marcos \n 
URL:https://www.clubtrinat.com/evento/ancares-cycling-marathon-3/
LOCATION:Ancares
CATEGORIES:Ciclismo,Competiciones
ATTACH;FMTTYPE=image/png:https://www.clubtrinat.com/wordpress/wp-content/uploads/2025/07/Captura-de-pantalla-2025-07-28-a-las-10.56.29.png
END:VEVENT
END:VCALENDAR