BEGIN:VCALENDAR
VERSION:2.0
PRODID:-//Club Trinat - ECPv6.15.15//NONSGML v1.0//EN
CALSCALE:GREGORIAN
METHOD:PUBLISH
X-WR-CALNAME:Club Trinat
X-ORIGINAL-URL:https://www.clubtrinat.com
X-WR-CALDESC:Eventos para Club Trinat
REFRESH-INTERVAL;VALUE=DURATION:PT1H
X-Robots-Tag:noindex
X-PUBLISHED-TTL:PT1H
BEGIN:VTIMEZONE
TZID:Europe/Madrid
BEGIN:DAYLIGHT
TZOFFSETFROM:+0100
TZOFFSETTO:+0200
TZNAME:CEST
DTSTART:20240331T010000
END:DAYLIGHT
BEGIN:STANDARD
TZOFFSETFROM:+0200
TZOFFSETTO:+0100
TZNAME:CET
DTSTART:20241027T010000
END:STANDARD
BEGIN:DAYLIGHT
TZOFFSETFROM:+0100
TZOFFSETTO:+0200
TZNAME:CEST
DTSTART:20250330T010000
END:DAYLIGHT
BEGIN:STANDARD
TZOFFSETFROM:+0200
TZOFFSETTO:+0100
TZNAME:CET
DTSTART:20251026T010000
END:STANDARD
BEGIN:DAYLIGHT
TZOFFSETFROM:+0100
TZOFFSETTO:+0200
TZNAME:CEST
DTSTART:20260329T010000
END:DAYLIGHT
BEGIN:STANDARD
TZOFFSETFROM:+0200
TZOFFSETTO:+0100
TZNAME:CET
DTSTART:20261025T010000
END:STANDARD
END:VTIMEZONE
BEGIN:VEVENT
DTSTART;TZID=Europe/Madrid:20251213T183000
DTEND;TZID=Europe/Madrid:20251213T200000
DTSTAMP:20260425T195838
CREATED:20251128T091223Z
LAST-MODIFIED:20251128T091223Z
UID:7815-1765650600-1765656000@www.clubtrinat.com
SUMMARY:XVIII Carrera Popular Paracuellos de Jarama
DESCRIPTION:El sábado 13 de diciembre de 2025\, a las 18:30 h\, se celebrará la XVIII Carrera Popular Paracuellos de Jarama\, sobre un recorrido de 10 kilómetros en asfalto\, promovida y organizada por el Ayuntamiento de Paracuellos de Jarama bajo la dirección técnica de la Concejalía de deportes y con el apoyo logístico de Forevent Servicios Organizativos. \nTrinaters inscritos: Victor\,
URL:https://www.clubtrinat.com/evento/xviii-carrera-popular-paracuellos-de-jarama/
LOCATION:Paracuellos del Jarama\, Madrid\, España
CATEGORIES:10K,Competiciones
ATTACH;FMTTYPE=image/png:https://www.clubtrinat.com/wordpress/wp-content/uploads/2025/11/Captura-de-pantalla-2025-11-28-a-las-10.09.53.png
END:VEVENT
END:VCALENDAR