BEGIN:VCALENDAR
VERSION:2.0
PRODID:-//Club Trinat - ECPv6.15.15//NONSGML v1.0//EN
CALSCALE:GREGORIAN
METHOD:PUBLISH
X-WR-CALNAME:Club Trinat
X-ORIGINAL-URL:https://www.clubtrinat.com
X-WR-CALDESC:Eventos para Club Trinat
REFRESH-INTERVAL;VALUE=DURATION:PT1H
X-Robots-Tag:noindex
X-PUBLISHED-TTL:PT1H
BEGIN:VTIMEZONE
TZID:Europe/Madrid
BEGIN:DAYLIGHT
TZOFFSETFROM:+0100
TZOFFSETTO:+0200
TZNAME:CEST
DTSTART:20240331T010000
END:DAYLIGHT
BEGIN:STANDARD
TZOFFSETFROM:+0200
TZOFFSETTO:+0100
TZNAME:CET
DTSTART:20241027T010000
END:STANDARD
BEGIN:DAYLIGHT
TZOFFSETFROM:+0100
TZOFFSETTO:+0200
TZNAME:CEST
DTSTART:20250330T010000
END:DAYLIGHT
BEGIN:STANDARD
TZOFFSETFROM:+0200
TZOFFSETTO:+0100
TZNAME:CET
DTSTART:20251026T010000
END:STANDARD
BEGIN:DAYLIGHT
TZOFFSETFROM:+0100
TZOFFSETTO:+0200
TZNAME:CEST
DTSTART:20260329T010000
END:DAYLIGHT
BEGIN:STANDARD
TZOFFSETFROM:+0200
TZOFFSETTO:+0100
TZNAME:CET
DTSTART:20261025T010000
END:STANDARD
END:VTIMEZONE
BEGIN:VEVENT
DTSTART;TZID=Europe/Madrid:20251221T100000
DTEND;TZID=Europe/Madrid:20251221T110000
DTSTAMP:20260425T195838
CREATED:20251119T084756Z
LAST-MODIFIED:20251119T084812Z
UID:7752-1766311200-1766314800@www.clubtrinat.com
SUMMARY:Carrera Papá Noel 2025
DESCRIPTION:¡NO TE QUEDES SIN CORRER LA CARRERA MÁS DIVERTIDA DE LA NAVIDAD. ¡PARTICIPA!\nCARRERA SOLIDARIA a favor de Cruz Roja\n\n\n\n\n\n¿Qué incluye la inscripción a la carrera?\n\n\n\n\n\nTraje completo de Papá Noel (pantalón\, chaqueta\, cinturón\, gorro y barba)\nDorsal Chip\nDiploma acreditativo de tu participación en la Carrera de Papá Noel\nBolsa de regalos de los diferentes patrocinadores y colaboradores.\n\nTrinaters inscrit@s: Jaime\,
URL:https://www.clubtrinat.com/evento/carrera-papa-noel-2025/
LOCATION:Madrid\, Madrid\, España
CATEGORIES:5k,Competiciones
ATTACH;FMTTYPE=image/png:https://www.clubtrinat.com/wordpress/wp-content/uploads/2025/11/Captura-de-pantalla-2025-11-19-a-las-9.44.36.png
END:VEVENT
BEGIN:VEVENT
DTSTART;TZID=Europe/Madrid:20251221T120000
DTEND;TZID=Europe/Madrid:20251221T130000
DTSTAMP:20260425T195838
CREATED:20251119T084335Z
LAST-MODIFIED:20251119T084336Z
UID:7748-1766318400-1766322000@www.clubtrinat.com
SUMMARY:41 CARRERA POPULAR VILLA DE ARANJUEZ 25
DESCRIPTION:El próximo 21 de Diciembre iremos nada menos a que por la edición número 41 de nuestra carrera. 41 años haciendo posible que muchas generaciones de corredores hayan disfrutado del ambiente y el recorrido tan especial de nuestra carrera. Este año de nuevo con la confianza de CAIXABANK como patrocinador principal de la prueba\, reforzando la apuesta que ya hizo las dos pasadas ediciones por el deporte popular apoyando un evento que por calidad y veteranía se encuentra entre los mejores 10k de España. \nFruto de esta colaboración nace la 41 CARRERA POPULAR CAIXABANK VILLA DE ARANJUEZ. Organizada como siempre por el CLUB MARATHON ARANJUEZ. \nUna carrera con un encanto especial tanto para corredores como para acompañantes. Enclavada en un marco sin igual con un recorrido que discurre por Paisajes declarados Patrimonio Cultural de la Humanidad. \nEl periodo de inscripción comienza el 1 de OCTUBRE hasta el 30 de NOVIEMBRE o hasta agotar los dorsales disponibles. \nTrinaters inscrit@s: Victor\,
URL:https://www.clubtrinat.com/evento/41-carrera-popular-villa-de-aranjuez-25/
LOCATION:Aranjuez\, Aranjuez\, España
CATEGORIES:10K,Competiciones
ATTACH;FMTTYPE=image/png:https://www.clubtrinat.com/wordpress/wp-content/uploads/2025/11/Captura-de-pantalla-2025-11-19-a-las-9.40.28.png
END:VEVENT
BEGIN:VEVENT
DTSTART;TZID=Europe/Madrid:20251221T183000
DTEND;TZID=Europe/Madrid:20251221T193000
DTSTAMP:20260425T195838
CREATED:20251203T085341Z
LAST-MODIFIED:20251203T085341Z
UID:7843-1766341800-1766345400@www.clubtrinat.com
SUMMARY:Cursa Nadal Bétera
DESCRIPTION:La carrera popular 5Qm és celebrarà el pròxim 21 de Desembre de 2024 a les 18:30 hores. Organitza l’Ajuntament de Bétera i la Mancomunitat del Camp del Turia i col·laboren CEA Bétera\, BxM\, COABE i Caixa Popular. \nArticle 2: A la carrera\, urbana i a peu de 5 Qm\, tindran accés totes les persones que ho desitgen\, federades o no. El circuit és urbà d’asfalt. \nTrinaters inscritos: Rober\,
URL:https://www.clubtrinat.com/evento/cursa-nadal-betera/
LOCATION:l’Ajuntament de Bétera
CATEGORIES:5k,Competiciones
ATTACH;FMTTYPE=image/png:https://www.clubtrinat.com/wordpress/wp-content/uploads/2025/12/Captura-de-pantalla-2025-12-03-a-las-9.50.03.png
END:VEVENT
END:VCALENDAR