BEGIN:VCALENDAR
VERSION:2.0
PRODID:-//Club Trinat - ECPv6.15.15//NONSGML v1.0//EN
CALSCALE:GREGORIAN
METHOD:PUBLISH
X-ORIGINAL-URL:https://www.clubtrinat.com
X-WR-CALDESC:Eventos para Club Trinat
REFRESH-INTERVAL;VALUE=DURATION:PT1H
X-Robots-Tag:noindex
X-PUBLISHED-TTL:PT1H
BEGIN:VTIMEZONE
TZID:Europe/Madrid
BEGIN:DAYLIGHT
TZOFFSETFROM:+0100
TZOFFSETTO:+0200
TZNAME:CEST
DTSTART:20240331T010000
END:DAYLIGHT
BEGIN:STANDARD
TZOFFSETFROM:+0200
TZOFFSETTO:+0100
TZNAME:CET
DTSTART:20241027T010000
END:STANDARD
BEGIN:DAYLIGHT
TZOFFSETFROM:+0100
TZOFFSETTO:+0200
TZNAME:CEST
DTSTART:20250330T010000
END:DAYLIGHT
BEGIN:STANDARD
TZOFFSETFROM:+0200
TZOFFSETTO:+0100
TZNAME:CET
DTSTART:20251026T010000
END:STANDARD
BEGIN:DAYLIGHT
TZOFFSETFROM:+0100
TZOFFSETTO:+0200
TZNAME:CEST
DTSTART:20260329T010000
END:DAYLIGHT
BEGIN:STANDARD
TZOFFSETFROM:+0200
TZOFFSETTO:+0100
TZNAME:CET
DTSTART:20261025T010000
END:STANDARD
END:VTIMEZONE
BEGIN:VEVENT
DTSTART;TZID=Europe/Madrid:20251231T165000
DTEND;TZID=Europe/Madrid:20251231T180000
DTSTAMP:20260425T183849
CREATED:20251128T090838Z
LAST-MODIFIED:20251128T090838Z
UID:7812-1767199800-1767204000@www.clubtrinat.com
SUMMARY:San Silvestre Vallecana 2025
DESCRIPTION:El día 31 de diciembre de 2025 se va a celebrar la 48ª edición de la Nationale-Nederlanden San Silvestre Vallecana Popular\, que se disputa por las calles de Madrid. \n\nLa prueba contará con la colaboración del Consejo Superior de Deportes\, Dirección General de Deportes de la Comunidad de Madrid\, Área Delegada de Deporte del Ayuntamiento de Madrid y Oficina de Actos en Vía Pública del Ayuntamiento de Madrid.\n\n\n\nTrinaters inscritos: Victor\, 
URL:https://www.clubtrinat.com/evento/san-silvestre-vallecana-2025/
CATEGORIES:10K
ATTACH;FMTTYPE=image/png:https://www.clubtrinat.com/wordpress/wp-content/uploads/2025/11/Captura-de-pantalla-2025-11-28-a-las-10.06.17.png
END:VEVENT
END:VCALENDAR