BEGIN:VCALENDAR
VERSION:2.0
PRODID:-//Club Trinat - ECPv6.15.15//NONSGML v1.0//EN
CALSCALE:GREGORIAN
METHOD:PUBLISH
X-ORIGINAL-URL:https://www.clubtrinat.com
X-WR-CALDESC:Eventos para Club Trinat
REFRESH-INTERVAL;VALUE=DURATION:PT1H
X-Robots-Tag:noindex
X-PUBLISHED-TTL:PT1H
BEGIN:VTIMEZONE
TZID:Europe/Madrid
BEGIN:DAYLIGHT
TZOFFSETFROM:+0100
TZOFFSETTO:+0200
TZNAME:CEST
DTSTART:20250330T010000
END:DAYLIGHT
BEGIN:STANDARD
TZOFFSETFROM:+0200
TZOFFSETTO:+0100
TZNAME:CET
DTSTART:20251026T010000
END:STANDARD
BEGIN:DAYLIGHT
TZOFFSETFROM:+0100
TZOFFSETTO:+0200
TZNAME:CEST
DTSTART:20260329T010000
END:DAYLIGHT
BEGIN:STANDARD
TZOFFSETFROM:+0200
TZOFFSETTO:+0100
TZNAME:CET
DTSTART:20261025T010000
END:STANDARD
BEGIN:DAYLIGHT
TZOFFSETFROM:+0100
TZOFFSETTO:+0200
TZNAME:CEST
DTSTART:20270328T010000
END:DAYLIGHT
BEGIN:STANDARD
TZOFFSETFROM:+0200
TZOFFSETTO:+0100
TZNAME:CET
DTSTART:20271031T010000
END:STANDARD
END:VTIMEZONE
BEGIN:VEVENT
DTSTART;TZID=Europe/Madrid:20260125T090000
DTEND;TZID=Europe/Madrid:20260125T120000
DTSTAMP:20260425T183736
CREATED:20250421T092059Z
LAST-MODIFIED:20250421T092100Z
UID:7315-1769331600-1769342400@www.clubtrinat.com
SUMMARY:Media Maratón de Sevilla 2026
DESCRIPTION:El Club de Atletismo San Pablo de Sevilla\, promotor del Medio Maratón de Sevilla\, la 31ª edición\, que se celebrará el día 25 de enero de 2026\, pudiendo participar toda aquella persona que tenga cumplidos 18 años en dicha fecha\, sin distinción de sexo o nacionalidad y cumplan con la normativa de la RFEA\, FAA \, AIMS y la World Athletics. \nEl circuito tiene una longitud de 21.097 metros\, homologada por la Real Federación Española de Atletismo y la World Athletics. La Salida y la Meta se encuentran situadas en el Paseo de las Delicias de Sevilla. Se realizará por terreno asfáltico y pavimentado. \nLa carrera comenzará a las 09:00 horas\, el tiempo máximo para la realización de la prueba será de 3 horas\, cerrándose la meta a las 12:00 horas. \nTrinaters inscrit@s: Aude Ane\,
URL:https://www.clubtrinat.com/evento/media-maraton-de-sevilla-2026/
LOCATION:Sevilla\, Sevilla\, España
CATEGORIES:Competiciones,Media Maratón
ATTACH;FMTTYPE=image/png:https://www.clubtrinat.com/wordpress/wp-content/uploads/2025/04/Captura-de-pantalla-2025-04-21-a-las-11.18.05.png
END:VEVENT
BEGIN:VEVENT
DTSTART;TZID=Europe/Madrid:20260125T103000
DTEND;TZID=Europe/Madrid:20260125T170000
DTSTAMP:20260425T183736
CREATED:20251203T084501Z
LAST-MODIFIED:20251203T084501Z
UID:7838-1769337000-1769360400@www.clubtrinat.com
SUMMARY:Media maratón de Getafe 2025
DESCRIPTION:El Club de Atletismo Artyneon\, con la colaboración del Excmo. Ayuntamiento de Getafe\, organizan la 26 Edición del “Medio Maratón Ciudad de Getafe”\, el domingo 25 de Enero de 2026 a las 10:30 horas. \nTrinaters inscritos: Fonso\, Rober\,
URL:https://www.clubtrinat.com/evento/media-maraton-de-getafe-2025/
LOCATION:Getafe\, España
CATEGORIES:Competiciones,Media Maratón
ATTACH;FMTTYPE=image/png:https://www.clubtrinat.com/wordpress/wp-content/uploads/2025/12/Captura-de-pantalla-2025-12-03-a-las-9.42.27.png
END:VEVENT
END:VCALENDAR