BEGIN:VCALENDAR
VERSION:2.0
PRODID:-//Club Trinat - ECPv6.15.15//NONSGML v1.0//EN
CALSCALE:GREGORIAN
METHOD:PUBLISH
X-WR-CALNAME:Club Trinat
X-ORIGINAL-URL:https://www.clubtrinat.com
X-WR-CALDESC:Eventos para Club Trinat
REFRESH-INTERVAL;VALUE=DURATION:PT1H
X-Robots-Tag:noindex
X-PUBLISHED-TTL:PT1H
BEGIN:VTIMEZONE
TZID:Europe/Madrid
BEGIN:DAYLIGHT
TZOFFSETFROM:+0100
TZOFFSETTO:+0200
TZNAME:CEST
DTSTART:20250330T010000
END:DAYLIGHT
BEGIN:STANDARD
TZOFFSETFROM:+0200
TZOFFSETTO:+0100
TZNAME:CET
DTSTART:20251026T010000
END:STANDARD
BEGIN:DAYLIGHT
TZOFFSETFROM:+0100
TZOFFSETTO:+0200
TZNAME:CEST
DTSTART:20260329T010000
END:DAYLIGHT
BEGIN:STANDARD
TZOFFSETFROM:+0200
TZOFFSETTO:+0100
TZNAME:CET
DTSTART:20261025T010000
END:STANDARD
BEGIN:DAYLIGHT
TZOFFSETFROM:+0100
TZOFFSETTO:+0200
TZNAME:CEST
DTSTART:20270328T010000
END:DAYLIGHT
BEGIN:STANDARD
TZOFFSETFROM:+0200
TZOFFSETTO:+0100
TZNAME:CET
DTSTART:20271031T010000
END:STANDARD
END:VTIMEZONE
BEGIN:VEVENT
DTSTART;TZID=Europe/Madrid:20260315T093000
DTEND;TZID=Europe/Madrid:20260315T120000
DTSTAMP:20260424T163104
CREATED:20260311T081849Z
LAST-MODIFIED:20260311T081849Z
UID:7966-1773567000-1773576000@www.clubtrinat.com
SUMMARY:Duatlón popular Vallecas 2026
DESCRIPTION:IV DUATLON POPULAR VILLA DE VALLECAS 2026 \nEl domingo 15 de marzo de 2026 se celebrara la cuarta edición del Duatlón Popular Villa de Vallecas\, una cita ya consolidada en el calendario madrileño de duatlón. \nEl recorrido rápido en categoría SPRINT de 5km carrera a pie\, 20km de bici y finalizando con 2\,5km carrera a pie\, transcurrirá por las calles del distrito Villa de Vallecas\, combinando segmentos de carrera a pie y ciclismo en carretera perfectamente señalizados y controlados. \nEn esta cuarta edición tendrás la opción en tu inscripción de adquirir el maillot de la marca GOBIK \, un maillot conmemorativo de la prueba a un precio especial. (SOLO DISPONIBLE ESTA OPCIÓN HASTA EL 7 DE ENERO DE 2026). \nTrinaters inscritos: Clede\, Fonso\,
URL:https://www.clubtrinat.com/evento/duatlon-popular-vallecas-2026/
LOCATION:Vallecas\, Madrid\, España
CATEGORIES:Duatlon
ATTACH;FMTTYPE=image/png:https://www.clubtrinat.com/wordpress/wp-content/uploads/2026/03/Captura-de-pantalla-2026-03-11-a-las-9.16.36.png
END:VEVENT
BEGIN:VEVENT
DTSTART;TZID=Europe/Madrid:20260329T080000
DTEND;TZID=Europe/Madrid:20260329T170000
DTSTAMP:20260424T163104
CREATED:20251126T085828Z
LAST-MODIFIED:20251126T085844Z
UID:7802-1774771200-1774803600@www.clubtrinat.com
SUMMARY:Duatlón del Jarama 2026
DESCRIPTION:Todo estará situado en la carretera M111 que es una autopista de dos carriles + arcén en cada sentido. Esta autopista estará cortada al tráfico al 100%. \nEn los dos carriles de sentido sur estarán situados: Area de transición (dentro de la carretera)\, salida/meta y segmento de carrera a pie (en un carril ida y en otro vuelta) \nEn los carriles sentido norte se desarrollará el segmento de ciclismo. \nEl cambio de carrera a ciclismo se hará en la rotonda de Cottolengo\, que estará cortada a tráfico. \nEL SEGMENTO DE CICLISMO ES SIN DRAFTING\, no estan permitido ir a rueda\, tanto en la distancia olímpica como en media distancia. Se permite el uso de bicicletas contrarreloj. \nTrinaters inscritos: Victor\,
URL:https://www.clubtrinat.com/evento/duatlon-del-jarama-2026/
LOCATION:Fuente el Saz\, Madrid\, Madrid\, España
CATEGORIES:Competiciones,Duatlon
ATTACH;FMTTYPE=image/png:https://www.clubtrinat.com/wordpress/wp-content/uploads/2025/11/Captura-de-pantalla-2025-11-26-a-las-9.56.24.png
END:VEVENT
END:VCALENDAR