BEGIN:VCALENDAR
VERSION:2.0
PRODID:-//Club Trinat - ECPv6.15.15//NONSGML v1.0//EN
CALSCALE:GREGORIAN
METHOD:PUBLISH
X-WR-CALNAME:Club Trinat
X-ORIGINAL-URL:https://www.clubtrinat.com
X-WR-CALDESC:Eventos para Club Trinat
REFRESH-INTERVAL;VALUE=DURATION:PT1H
X-Robots-Tag:noindex
X-PUBLISHED-TTL:PT1H
BEGIN:VTIMEZONE
TZID:Europe/Madrid
BEGIN:DAYLIGHT
TZOFFSETFROM:+0100
TZOFFSETTO:+0200
TZNAME:CEST
DTSTART:20240331T010000
END:DAYLIGHT
BEGIN:STANDARD
TZOFFSETFROM:+0200
TZOFFSETTO:+0100
TZNAME:CET
DTSTART:20241027T010000
END:STANDARD
BEGIN:DAYLIGHT
TZOFFSETFROM:+0100
TZOFFSETTO:+0200
TZNAME:CEST
DTSTART:20250330T010000
END:DAYLIGHT
BEGIN:STANDARD
TZOFFSETFROM:+0200
TZOFFSETTO:+0100
TZNAME:CET
DTSTART:20251026T010000
END:STANDARD
BEGIN:DAYLIGHT
TZOFFSETFROM:+0100
TZOFFSETTO:+0200
TZNAME:CEST
DTSTART:20260329T010000
END:DAYLIGHT
BEGIN:STANDARD
TZOFFSETFROM:+0200
TZOFFSETTO:+0100
TZNAME:CET
DTSTART:20261025T010000
END:STANDARD
END:VTIMEZONE
BEGIN:VEVENT
DTSTART;TZID=Europe/Madrid:20250309T093000
DTEND;TZID=Europe/Madrid:20250309T130000
DTSTAMP:20260425T132357
CREATED:20250205T100130Z
LAST-MODIFIED:20250306T103518Z
UID:7208-1741512600-1741525200@www.clubtrinat.com
SUMMARY:Duatlón Popular Villa de Vallecas 2025
DESCRIPTION:El domingo 9 de marzo de 2025 regresa el DUATLON POPULAR VILLA DE VALLECAS\, siendo un evento deportivo que se ha consolidado como una de las competiciones populares mas importantes y queridas en el distrito Villa de Vallecas\, Madrid. Nacida para fomentar el deporte y la convivencia\, esta ofrece una experiencia única al mezclar diferentes disciplinas en una jornada de competición \, celebración y encuentro entre participantes de diferentes edades y niveles de habilidad. \nDesde sus inicios el Duatlón Popular Villa de Vallecas se ha enfocado en la promoción de la actividad física y el espíritu de superación personal en un ambiente inclusivo. La prueba ha ido evolucionando año tras año\, incrementando su participación y popularidad. \nEn esta edición podrás disfrutar de: Regalo por inscripción\, medalla finisher\, masaje post carrera\, box de mecánica rápida\, ropero\, avituallamiento final de carrera ( pollo asado\, chuches\, frutos secos\, cerveza y agua)\, servicio de fotografía gratuito\, música en directo\, aseos\, control chip en carrera\, sorteos y muchas sorpresas… \nTrinaters inscritos: Gas\, David\, Marga\, Beiña\, Sergio\, Jose\, 
URL:https://www.clubtrinat.com/evento/duatlon-popular-villa-de-vallecas-2025/
LOCATION:Vallecas\, Madrid\, España
CATEGORIES:Competiciones,Duatlon
ATTACH;FMTTYPE=image/png:https://www.clubtrinat.com/wordpress/wp-content/uploads/2025/02/Captura-de-pantalla-2025-02-05-a-las-10.59.39.png
END:VEVENT
END:VCALENDAR