BEGIN:VCALENDAR
VERSION:2.0
PRODID:-//Club Trinat - ECPv6.15.15//NONSGML v1.0//EN
CALSCALE:GREGORIAN
METHOD:PUBLISH
X-ORIGINAL-URL:https://www.clubtrinat.com
X-WR-CALDESC:Eventos para Club Trinat
REFRESH-INTERVAL;VALUE=DURATION:PT1H
X-Robots-Tag:noindex
X-PUBLISHED-TTL:PT1H
BEGIN:VTIMEZONE
TZID:Europe/Madrid
BEGIN:DAYLIGHT
TZOFFSETFROM:+0100
TZOFFSETTO:+0200
TZNAME:CEST
DTSTART:20240331T010000
END:DAYLIGHT
BEGIN:STANDARD
TZOFFSETFROM:+0200
TZOFFSETTO:+0100
TZNAME:CET
DTSTART:20241027T010000
END:STANDARD
BEGIN:DAYLIGHT
TZOFFSETFROM:+0100
TZOFFSETTO:+0200
TZNAME:CEST
DTSTART:20250330T010000
END:DAYLIGHT
BEGIN:STANDARD
TZOFFSETFROM:+0200
TZOFFSETTO:+0100
TZNAME:CET
DTSTART:20251026T010000
END:STANDARD
BEGIN:DAYLIGHT
TZOFFSETFROM:+0100
TZOFFSETTO:+0200
TZNAME:CEST
DTSTART:20260329T010000
END:DAYLIGHT
BEGIN:STANDARD
TZOFFSETFROM:+0200
TZOFFSETTO:+0100
TZNAME:CET
DTSTART:20261025T010000
END:STANDARD
END:VTIMEZONE
BEGIN:VEVENT
DTSTART;TZID=Europe/Madrid:20251109T120000
DTEND;TZID=Europe/Madrid:20251109T150000
DTSTAMP:20260425T003031
CREATED:20251001T072736Z
LAST-MODIFIED:20251001T072736Z
UID:7635-1762689600-1762700400@www.clubtrinat.com
SUMMARY:Duatlón Venturada
DESCRIPTION:DOMINGO 9 DE NOVIEMBRE DE 2025 (HORARIOS PROVISIONALES): \n10:00 h. – Comienzo entrega de dorsales.  \n12:00 h. – Salida carrera individual masculina. \n12:05 h. – Salida carrera individual femenina. \n13:45 h. – Entrega de trofeos. \nRecogida de dorsales POLIDEPORTIVO MINICIPAL DE VENTURADA. DOMINGO 9 DE NOVIEMBRE DE 2025 \nApertura Área de transición. DOMINGO 9 DE NOVIEMBRE  de 11:00 a 11:45. \nTrinaters inscrit@s: Victor\,
URL:https://www.clubtrinat.com/evento/duatlon-venturada/
LOCATION:Venturada\, Madrid\, Madrid\, Spain
CATEGORIES:Competiciones,Duatlon
ATTACH;FMTTYPE=image/png:https://www.clubtrinat.com/wordpress/wp-content/uploads/2025/10/Captura-de-pantalla-2025-10-01-a-las-9.25.49.png
END:VEVENT
END:VCALENDAR