BEGIN:VCALENDAR
VERSION:2.0
PRODID:-//Club Trinat - ECPv6.15.15//NONSGML v1.0//EN
CALSCALE:GREGORIAN
METHOD:PUBLISH
X-WR-CALNAME:Club Trinat
X-ORIGINAL-URL:https://www.clubtrinat.com
X-WR-CALDESC:Eventos para Club Trinat
REFRESH-INTERVAL;VALUE=DURATION:PT1H
X-Robots-Tag:noindex
X-PUBLISHED-TTL:PT1H
BEGIN:VTIMEZONE
TZID:Europe/Madrid
BEGIN:DAYLIGHT
TZOFFSETFROM:+0100
TZOFFSETTO:+0200
TZNAME:CEST
DTSTART:20240331T010000
END:DAYLIGHT
BEGIN:STANDARD
TZOFFSETFROM:+0200
TZOFFSETTO:+0100
TZNAME:CET
DTSTART:20241027T010000
END:STANDARD
BEGIN:DAYLIGHT
TZOFFSETFROM:+0100
TZOFFSETTO:+0200
TZNAME:CEST
DTSTART:20250330T010000
END:DAYLIGHT
BEGIN:STANDARD
TZOFFSETFROM:+0200
TZOFFSETTO:+0100
TZNAME:CET
DTSTART:20251026T010000
END:STANDARD
BEGIN:DAYLIGHT
TZOFFSETFROM:+0100
TZOFFSETTO:+0200
TZNAME:CEST
DTSTART:20260329T010000
END:DAYLIGHT
BEGIN:STANDARD
TZOFFSETFROM:+0200
TZOFFSETTO:+0100
TZNAME:CET
DTSTART:20261025T010000
END:STANDARD
END:VTIMEZONE
BEGIN:VEVENT
DTSTART;TZID=Europe/Madrid:20251123T100000
DTEND;TZID=Europe/Madrid:20251123T140000
DTSTAMP:20260425T002822
CREATED:20251008T074722Z
LAST-MODIFIED:20251008T074722Z
UID:7656-1763892000-1763906400@www.clubtrinat.com
SUMMARY:Duatlón Cross Majadahonda
DESCRIPTION:El Duatlón Cross Majadahonda “Fiestas de Santa Catalina” es una prueba organizada por el Club Ciclista Majadahonda en colaboración con el Exmo. Ayuntamiento de Majadahonda. Todos los beneficios de la prueba irán destinados a la Asociación Syngap1 España. \nFECHA Y LUGAR: \nEl 23 de Noviembre 2025 a las 10:00 am\, en el Recinto Ferial de Majadahonda. \nTrinaters inscritos: Clede\,
URL:https://www.clubtrinat.com/evento/duatlon-cross-majadahonda/
LOCATION:Majadahonda\, Madrid\, Madrid\, Spain
CATEGORIES:Competiciones,Duatlon
ATTACH;FMTTYPE=image/png:https://www.clubtrinat.com/wordpress/wp-content/uploads/2025/10/Captura-de-pantalla-2025-10-08-a-las-9.44.44.png
END:VEVENT
END:VCALENDAR