BEGIN:VCALENDAR
VERSION:2.0
PRODID:-//Club Trinat - ECPv6.15.15//NONSGML v1.0//EN
CALSCALE:GREGORIAN
METHOD:PUBLISH
X-WR-CALNAME:Club Trinat
X-ORIGINAL-URL:https://www.clubtrinat.com
X-WR-CALDESC:Eventos para Club Trinat
REFRESH-INTERVAL;VALUE=DURATION:PT1H
X-Robots-Tag:noindex
X-PUBLISHED-TTL:PT1H
BEGIN:VTIMEZONE
TZID:Europe/Madrid
BEGIN:DAYLIGHT
TZOFFSETFROM:+0100
TZOFFSETTO:+0200
TZNAME:CEST
DTSTART:20230326T010000
END:DAYLIGHT
BEGIN:STANDARD
TZOFFSETFROM:+0200
TZOFFSETTO:+0100
TZNAME:CET
DTSTART:20231029T010000
END:STANDARD
BEGIN:DAYLIGHT
TZOFFSETFROM:+0100
TZOFFSETTO:+0200
TZNAME:CEST
DTSTART:20240331T010000
END:DAYLIGHT
BEGIN:STANDARD
TZOFFSETFROM:+0200
TZOFFSETTO:+0100
TZNAME:CET
DTSTART:20241027T010000
END:STANDARD
BEGIN:DAYLIGHT
TZOFFSETFROM:+0100
TZOFFSETTO:+0200
TZNAME:CEST
DTSTART:20250330T010000
END:DAYLIGHT
BEGIN:STANDARD
TZOFFSETFROM:+0200
TZOFFSETTO:+0100
TZNAME:CET
DTSTART:20251026T010000
END:STANDARD
END:VTIMEZONE
BEGIN:VEVENT
DTSTART;TZID=Europe/Madrid:20240915T090000
DTEND;TZID=Europe/Madrid:20240915T130000
DTSTAMP:20260425T215816
CREATED:20240910T111232Z
LAST-MODIFIED:20240910T111233Z
UID:6841-1726390800-1726405200@www.clubtrinat.com
SUMMARY:Meia Maratona Porto
DESCRIPTION:Programa\n13 y 14 de septiembre\n10:00-23:00 | Entrega de kits para participantes – Alameda Shop & Spot \n14 de septiembre\n17:00| Misa de bendición de los maratonianos – Iglesia de Antas \n15 de Septiembre\n08:00 | Apertura de la área VIP (Jardim do Passeio Alegre – junto a la salida/llegada)\n09:00 | Salida del Medio Maratón y Mini Maratón – Av. de Dom Carlos I \nTrinaters inscritos: Sergio
URL:https://www.clubtrinat.com/evento/meia-maratona-porto/
LOCATION:Porto\, Porto\, Portugal
CATEGORIES:Competiciones,Media Maratón
ATTACH;FMTTYPE=image/png:https://www.clubtrinat.com/wordpress/wp-content/uploads/2024/09/Captura-de-pantalla-2024-09-10-a-las-13.08.11.png
END:VEVENT
BEGIN:VEVENT
DTSTART;TZID=Europe/Madrid:20240922T083000
DTEND;TZID=Europe/Madrid:20240922T110000
DTSTAMP:20260425T215816
CREATED:20240917T100721Z
LAST-MODIFIED:20240917T100721Z
UID:6885-1726993800-1727002800@www.clubtrinat.com
SUMMARY:21k Marina Alta
DESCRIPTION:Mitja marató circular\n\n\n\n\nGràcies a la col·laboració de 4 poblacions de la Marina Alta\, naix una nova mitja marató\, amb la intenció de convertir-se en una prova itinerant. \nEl camí comença el 22 de setembre de 2024\, a les 08.30 h\, amb eixida i arribada en la pista d’atletisme de Dénia. \nTrinaters inscritos: Tono
URL:https://www.clubtrinat.com/evento/21k-marina-alta/
LOCATION:Denia
CATEGORIES:Competiciones,Media Maratón
ATTACH;FMTTYPE=image/png:https://www.clubtrinat.com/wordpress/wp-content/uploads/2024/09/Captura-de-pantalla-2024-09-17-a-las-12.05.20.png
END:VEVENT
BEGIN:VEVENT
DTSTART;TZID=Europe/Madrid:20240929T090000
DTEND;TZID=Europe/Madrid:20240929T130000
DTSTAMP:20260425T215816
CREATED:20240903T095926Z
LAST-MODIFIED:20240903T100316Z
UID:6831-1727600400-1727614800@www.clubtrinat.com
SUMMARY:Media Maratón de Marbella
DESCRIPTION:Prepárate para desafiar tus límites en un recorrido llano a lo largo del deslumbrante lujo de la Costa Marbellí. Web Oficial de la Media Maratón de Marbella. \n\n\n\n\n29 de Septiembre de 2024 \n\n\n\n\n\n\n\n\n21K – 9:00 amSillas de ruedas – 9:00 am \n3×7 Relevos – 9:00 am \n5K Solidario – 9:05 amCategoria Atleta Local \n\n\n\n\n\n\n\n\nTrinaters inscritos: Jose
URL:https://www.clubtrinat.com/evento/media-maraton-de-marbella/
LOCATION:Marbella\, Marbella\, Málaga\, España
CATEGORIES:Competiciones,Media Maratón
ATTACH;FMTTYPE=image/png:https://www.clubtrinat.com/wordpress/wp-content/uploads/2024/09/Captura-de-pantalla-2024-09-03-a-las-11.55.21.png
END:VEVENT
END:VCALENDAR