BEGIN:VCALENDAR
VERSION:2.0
PRODID:-//Club Trinat - ECPv6.15.15//NONSGML v1.0//EN
CALSCALE:GREGORIAN
METHOD:PUBLISH
X-ORIGINAL-URL:https://www.clubtrinat.com
X-WR-CALDESC:Eventos para Club Trinat
REFRESH-INTERVAL;VALUE=DURATION:PT1H
X-Robots-Tag:noindex
X-PUBLISHED-TTL:PT1H
BEGIN:VTIMEZONE
TZID:Europe/Madrid
BEGIN:DAYLIGHT
TZOFFSETFROM:+0100
TZOFFSETTO:+0200
TZNAME:CEST
DTSTART:20240331T010000
END:DAYLIGHT
BEGIN:STANDARD
TZOFFSETFROM:+0200
TZOFFSETTO:+0100
TZNAME:CET
DTSTART:20241027T010000
END:STANDARD
BEGIN:DAYLIGHT
TZOFFSETFROM:+0100
TZOFFSETTO:+0200
TZNAME:CEST
DTSTART:20250330T010000
END:DAYLIGHT
BEGIN:STANDARD
TZOFFSETFROM:+0200
TZOFFSETTO:+0100
TZNAME:CET
DTSTART:20251026T010000
END:STANDARD
BEGIN:DAYLIGHT
TZOFFSETFROM:+0100
TZOFFSETTO:+0200
TZNAME:CEST
DTSTART:20260329T010000
END:DAYLIGHT
BEGIN:STANDARD
TZOFFSETFROM:+0200
TZOFFSETTO:+0100
TZNAME:CET
DTSTART:20261025T010000
END:STANDARD
END:VTIMEZONE
BEGIN:VEVENT
DTSTART;TZID=Europe/Madrid:20250126T090000
DTEND;TZID=Europe/Madrid:20250126T130000
DTSTAMP:20260425T161104
CREATED:20240912T093238Z
LAST-MODIFIED:20240912T093812Z
UID:6868-1737882000-1737896400@www.clubtrinat.com
SUMMARY:Media Maratón de Sevilla 2025
DESCRIPTION:El Club de Atletismo San Pablo de Sevilla\, promotor del Medio Maratón de Sevilla\, la 30ª edición\, que se celebrará el día 26 de enero de 2025\, pudiendo participar toda aquella persona que tenga cumplidos 18 años en dicha fecha\, sin distinción de sexo o nacionalidad y cumplan con la normativa de la RFEA\, FAA y la World Athletics. \nARTÍCULO 2º. Características.\nEl circuito tiene una longitud de 21.097 metros\, homologada por la Real Federación Española de Atletismo y la World Athletics. La Salida y la Meta se encuentran situadas en el Paseo de las Delicias de Sevilla. Se realizará por terreno asfáltico y pavimentado. \nLa carrera comenzará a las 09:00 horas\, el tiempo máximo para la realización de la prueba será de 3 horas\, cerrándose la meta a las 12:00 horas. \nTrinaters inscritos: Renato
URL:https://www.clubtrinat.com/evento/media-maraton-de-sevilla-2025/
LOCATION:Sevilla\, Sevilla\, España
CATEGORIES:Competiciones,Media Maratón
ATTACH;FMTTYPE=image/png:https://www.clubtrinat.com/wordpress/wp-content/uploads/2024/09/Captura-de-pantalla-2024-09-12-a-las-11.28.51.png
END:VEVENT
END:VCALENDAR