BEGIN:VCALENDAR
VERSION:2.0
PRODID:-//Club Trinat - ECPv6.15.15//NONSGML v1.0//EN
CALSCALE:GREGORIAN
METHOD:PUBLISH
X-WR-CALNAME:Club Trinat
X-ORIGINAL-URL:https://www.clubtrinat.com
X-WR-CALDESC:Eventos para Club Trinat
REFRESH-INTERVAL;VALUE=DURATION:PT1H
X-Robots-Tag:noindex
X-PUBLISHED-TTL:PT1H
BEGIN:VTIMEZONE
TZID:Europe/Madrid
BEGIN:DAYLIGHT
TZOFFSETFROM:+0100
TZOFFSETTO:+0200
TZNAME:CEST
DTSTART:20240331T010000
END:DAYLIGHT
BEGIN:STANDARD
TZOFFSETFROM:+0200
TZOFFSETTO:+0100
TZNAME:CET
DTSTART:20241027T010000
END:STANDARD
BEGIN:DAYLIGHT
TZOFFSETFROM:+0100
TZOFFSETTO:+0200
TZNAME:CEST
DTSTART:20250330T010000
END:DAYLIGHT
BEGIN:STANDARD
TZOFFSETFROM:+0200
TZOFFSETTO:+0100
TZNAME:CET
DTSTART:20251026T010000
END:STANDARD
BEGIN:DAYLIGHT
TZOFFSETFROM:+0100
TZOFFSETTO:+0200
TZNAME:CEST
DTSTART:20260329T010000
END:DAYLIGHT
BEGIN:STANDARD
TZOFFSETFROM:+0200
TZOFFSETTO:+0100
TZNAME:CET
DTSTART:20261025T010000
END:STANDARD
END:VTIMEZONE
BEGIN:VEVENT
DTSTART;TZID=Europe/Madrid:20250209T100000
DTEND;TZID=Europe/Madrid:20250209T120000
DTSTAMP:20260425T143816
CREATED:20250110T112213Z
LAST-MODIFIED:20250206T105808Z
UID:7151-1739095200-1739102400@www.clubtrinat.com
SUMMARY:XL Medio Maratón de Fuencarral-El Pardo 25
DESCRIPTION:El XL Medio Maratón de Fuencarral-El Pardo estará organizado por la Asociación de Vecinos Valverde de Fuencarral\, junto con el Distrito de Fuencarral-El Pardo\, bajo la dirección técnica de la Agrupación Deportiva Marathon. \nLa prueba está controlada y cronometrada por los jueces de la Federación de Atletismo de Madrid . \nARTÍCULO 2. FECHA\, HORA Y LUGAR DE CELEBRACIÓN\nLa carrera se celebrará el domingo día 9 de febrero de 2025 con salida en calle Nuestra Señora de Valverde\, junto a la calle Doctor Juan Bravo. \nLa salida\, tendrá lugar a las 10:00 horas por exigencias municipales: \n\n10:00 h: Salida del Medio Maratón (Junior\, Senior y Veteranos)\n10:30 h: Carreras infantiles (no competitivas)\, comenzando con la categoría Sub-16 y a continuación los Sub-14\, luego los Sub-12 y finalmente los Sub-10\, Sub-8 y Personas con Discapacidad\n\nTrinaters inscritos: Denis\, Javi\, David\, 
URL:https://www.clubtrinat.com/evento/xl-medio-maraton-de-fuencarral-el-pardo/
LOCATION:Fuencarral- el pardo\, Fuencarral-el Pardo
CATEGORIES:Competiciones,Media Maratón
ATTACH;FMTTYPE=image/png:https://www.clubtrinat.com/wordpress/wp-content/uploads/2025/01/Captura-de-pantalla-2025-01-10-a-las-12.18.37.png
END:VEVENT
BEGIN:VEVENT
DTSTART;TZID=Europe/Madrid:20250216T083000
DTEND;TZID=Europe/Madrid:20250216T100000
DTSTAMP:20260425T143816
CREATED:20241025T072115Z
LAST-MODIFIED:20241025T072116Z
UID:6965-1739694600-1739700000@www.clubtrinat.com
SUMMARY:Mitja de Barcelona
DESCRIPTION:Vivir la eDreams Mitja Marató Barcelona by Brooks\, ​​es vivirla a tu manera. En Barcelona\, donde la diversidad es parte de su esencia\, cada corredor encuentra su propia melodía en esta sinfonía urbana. \n¿Cuál es tu Beat?\nEs la pregunta que nos invita a reflexionar sobre cómo vivimos la carrera a nuestra manera única. \nAlgunos de nosotros salimos a correr y luego buscamos ese acogedor café para desayunar\, otros prefieren sumergirse en las aguas del mar Mediterráneo para refrescarse tras una carrera mañanera igual que hay otros que se refugian en la oscuridad de la noche y en su silencio para correr con su mascota. \nCada uno de nosotros tiene su propio ritmo\, su propia forma de entender la vida\, y así también hacemos del running algo personal\, algo que nos conecta con nosotros mismos y con el entorno que nos rodea. \nTrinaters inscritos: Sergio
URL:https://www.clubtrinat.com/evento/mitja-de-barcelona/
LOCATION:barcelona\, Barcelona\, Barcelona\, España
CATEGORIES:Media Maratón
ATTACH;FMTTYPE=image/png:https://www.clubtrinat.com/wordpress/wp-content/uploads/2024/10/Captura-de-pantalla-2024-10-25-a-las-9.14.06.png
END:VEVENT
BEGIN:VEVENT
DTSTART;TZID=Europe/Madrid:20250216T093000
DTEND;TZID=Europe/Madrid:20250216T113000
DTSTAMP:20260425T143816
CREATED:20241002T094201Z
LAST-MODIFIED:20241002T094202Z
UID:6936-1739698200-1739705400@www.clubtrinat.com
SUMMARY:Media Maratón Internacional Aguas de Alicante
DESCRIPTION:El Club Atlético Montemar en colaboración con la Concejalía de Deportes del Excmo. Ayuntamiento de Alicante organiza la 29a edición de la Meridiano Media Maratón Internacional Aguas de Alicante\, carrera urbana a pie de 21.097\,5 metros en la que pueden participar todas las personas\, federados o no\, sobre los cuales no exista sanción de alguna clase en la fecha tope fijada para la inscripción\, tengan 18 años cumplidos el día de la prueba y cumplan con los requisitos exigidos. \n2. El presente “Reglamento de Participación”\, está regulado por la normativa de la RFEA\, la cual se puede consultar en su web oficial de la RFEA www.rfea.es. \n3. La 29a Meridiano Media Maratón Internacional Aguas de Alicante tendrá lugar el día 16 de febrero 2025. La salida se dará a las 9:30 desde la zona del Muelle 12 (zona Ocean Race) denominada para la carrera EL DESEMBARCO DEL CORREDOR\, y la meta estará situada en el mismo lugar. \n4. La Secretaría de Organización estará ubicada en las Oficinas del club organizador en sus instalaciones de la Albufereta; tfno: 675 87 57 67; e-mail: inforunners.montemar@gmail.com\, donde atenderemos en horario de lunes a viernes de 9:00h. a 14:00h. \nTrinaters inscritos: Aude Anne
URL:https://www.clubtrinat.com/evento/media-maraton-internacional-aguas-de-alicante/
LOCATION:Alicante\, Alicante\, España
CATEGORIES:Competiciones,Media Maratón
ATTACH;FMTTYPE=image/png:https://www.clubtrinat.com/wordpress/wp-content/uploads/2024/10/Captura-de-pantalla-2024-10-02-a-las-11.39.24.png
END:VEVENT
BEGIN:VEVENT
DTSTART;TZID=Europe/Madrid:20250223T093000
DTEND;TZID=Europe/Madrid:20250223T120000
DTSTAMP:20260425T143816
CREATED:20250110T112628Z
LAST-MODIFIED:20250110T113112Z
UID:7154-1740303000-1740312000@www.clubtrinat.com
SUMMARY:19 Media Maratón La Latina
DESCRIPTION:Somos un histórico club de Carbanchel Alto\, formado por un grupo de amigos\, amantes del deporte\, que todas las semanas nos reunimos para correr\, nadar y montar en bici. En definitiva\, para disfrutar de la vida haciendo lo que más nos gusta. Porque el deporte es vida y tenemos claro que los valores que transmite son fundamentales para formar buenos ciudadanos. \nSomos una asociación sin ánimo de lucro\, donde todos los socios son igual de importantes con independencia de su nivel competitivo. Tenemos dos secciones (atletismo y trialtón) y a lo largo del año participamos en diversos retos\, intentando dar lo mejor de nostros mismos. Buscamos el crecimiento personal a través de la práctica deportiva. \nOrganizamos\, además\, la Media Maratón de Latina\, prueba de referencia en el calendario nacional. Su desarrollo es posible gracias al trabajo desinteresado de los voluntarios del club y de sus familias\, así como al apoyo de diversas instituciones. \nTrinaters inscritos: Denis
URL:https://www.clubtrinat.com/evento/19-media-maraton-la-latina/
LOCATION:La Latina\, Madrid\, España
CATEGORIES:Competiciones,Media Maratón
ATTACH;FMTTYPE=image/png:https://www.clubtrinat.com/wordpress/wp-content/uploads/2025/01/Captura-de-pantalla-2025-01-10-a-las-12.24.16.png
END:VEVENT
END:VCALENDAR