BEGIN:VCALENDAR
VERSION:2.0
PRODID:-//Club Trinat - ECPv6.15.15//NONSGML v1.0//EN
CALSCALE:GREGORIAN
METHOD:PUBLISH
X-WR-CALNAME:Club Trinat
X-ORIGINAL-URL:https://www.clubtrinat.com
X-WR-CALDESC:Eventos para Club Trinat
REFRESH-INTERVAL;VALUE=DURATION:PT1H
X-Robots-Tag:noindex
X-PUBLISHED-TTL:PT1H
BEGIN:VTIMEZONE
TZID:Europe/Madrid
BEGIN:DAYLIGHT
TZOFFSETFROM:+0100
TZOFFSETTO:+0200
TZNAME:CEST
DTSTART:20230326T010000
END:DAYLIGHT
BEGIN:STANDARD
TZOFFSETFROM:+0200
TZOFFSETTO:+0100
TZNAME:CET
DTSTART:20231029T010000
END:STANDARD
BEGIN:DAYLIGHT
TZOFFSETFROM:+0100
TZOFFSETTO:+0200
TZNAME:CEST
DTSTART:20240331T010000
END:DAYLIGHT
BEGIN:STANDARD
TZOFFSETFROM:+0200
TZOFFSETTO:+0100
TZNAME:CET
DTSTART:20241027T010000
END:STANDARD
BEGIN:DAYLIGHT
TZOFFSETFROM:+0100
TZOFFSETTO:+0200
TZNAME:CEST
DTSTART:20250330T010000
END:DAYLIGHT
BEGIN:STANDARD
TZOFFSETFROM:+0200
TZOFFSETTO:+0100
TZNAME:CET
DTSTART:20251026T010000
END:STANDARD
END:VTIMEZONE
BEGIN:VEVENT
DTSTART;TZID=Europe/Madrid:20240922T083000
DTEND;TZID=Europe/Madrid:20240922T110000
DTSTAMP:20260426T012414
CREATED:20240917T100721Z
LAST-MODIFIED:20240917T100721Z
UID:6885-1726993800-1727002800@www.clubtrinat.com
SUMMARY:21k Marina Alta
DESCRIPTION:Mitja marató circular\n\n\n\n\nGràcies a la col·laboració de 4 poblacions de la Marina Alta\, naix una nova mitja marató\, amb la intenció de convertir-se en una prova itinerant. \nEl camí comença el 22 de setembre de 2024\, a les 08.30 h\, amb eixida i arribada en la pista d’atletisme de Dénia. \nTrinaters inscritos: Tono
URL:https://www.clubtrinat.com/evento/21k-marina-alta/
LOCATION:Denia
CATEGORIES:Competiciones,Media Maratón
ATTACH;FMTTYPE=image/png:https://www.clubtrinat.com/wordpress/wp-content/uploads/2024/09/Captura-de-pantalla-2024-09-17-a-las-12.05.20.png
END:VEVENT
END:VCALENDAR