BEGIN:VCALENDAR
VERSION:2.0
PRODID:-//Club Trinat - ECPv6.15.15//NONSGML v1.0//EN
CALSCALE:GREGORIAN
METHOD:PUBLISH
X-ORIGINAL-URL:https://www.clubtrinat.com
X-WR-CALDESC:Eventos para Club Trinat
REFRESH-INTERVAL;VALUE=DURATION:PT1H
X-Robots-Tag:noindex
X-PUBLISHED-TTL:PT1H
BEGIN:VTIMEZONE
TZID:Europe/Madrid
BEGIN:DAYLIGHT
TZOFFSETFROM:+0100
TZOFFSETTO:+0200
TZNAME:CEST
DTSTART:20230326T010000
END:DAYLIGHT
BEGIN:STANDARD
TZOFFSETFROM:+0200
TZOFFSETTO:+0100
TZNAME:CET
DTSTART:20231029T010000
END:STANDARD
BEGIN:DAYLIGHT
TZOFFSETFROM:+0100
TZOFFSETTO:+0200
TZNAME:CEST
DTSTART:20240331T010000
END:DAYLIGHT
BEGIN:STANDARD
TZOFFSETFROM:+0200
TZOFFSETTO:+0100
TZNAME:CET
DTSTART:20241027T010000
END:STANDARD
BEGIN:DAYLIGHT
TZOFFSETFROM:+0100
TZOFFSETTO:+0200
TZNAME:CEST
DTSTART:20250330T010000
END:DAYLIGHT
BEGIN:STANDARD
TZOFFSETFROM:+0200
TZOFFSETTO:+0100
TZNAME:CET
DTSTART:20251026T010000
END:STANDARD
END:VTIMEZONE
BEGIN:VEVENT
DTSTART;TZID=Europe/Madrid:20241006T080000
DTEND;TZID=Europe/Madrid:20241006T170000
DTSTAMP:20260425T220215
CREATED:20240205T085539Z
LAST-MODIFIED:20240212T084907Z
UID:6443-1728201600-1728234000@www.clubtrinat.com
SUMMARY:Cardiff Half Marathon
DESCRIPTION:El Cardiff Half Marathon se ha convertido en una de las carreras más grandes y emocionantes del Reino Unido\, con un recorrido muy recomendable tanto por lo llano que es el terreno como por los puntos turísticos que recorre\, y que además\, aunque pueda parecer lo contrario\, hay una gran animación por parte de toda la ciudad saliendo a la calle a animar a todos los corredores. También es una de las pruebas que más fondos recaudan para múltiples organizaciones benéficas\, labor muy loable y común en las pruebas inglesas. \nEl evento ha crecido significativamente desde que fue fundado en 2003 cuando participaron 1.500 corredores. Ahora atrae a más de 20.000 corredores a los que se añaden cada año los mejores corredores élites masculinos\, femeninos y en silla de ruedas. Anualmente es sede de los Campeonatos de Medio Maratón de Gales y ha acogido los Campeonatos de Medio Maratón de la Commonwealth en 2018\, además del Mundial de Medio Maratónen 2016. \nTrinaters inscritos: Juan\, Sergio\, Fonso
URL:https://www.clubtrinat.com/evento/cardiff-half-marathon/
LOCATION:Cardiff\, Cardiff\, Gales\, Reino Unido
CATEGORIES:Competiciones,Media Maratón
ATTACH;FMTTYPE=image/png:https://www.clubtrinat.com/wordpress/wp-content/uploads/2024/02/Captura-de-pantalla-2024-02-05-a-las-9.53.09.png
END:VEVENT
END:VCALENDAR