BEGIN:VCALENDAR
VERSION:2.0
PRODID:-//Club Trinat - ECPv6.15.15//NONSGML v1.0//EN
CALSCALE:GREGORIAN
METHOD:PUBLISH
X-ORIGINAL-URL:https://www.clubtrinat.com
X-WR-CALDESC:Eventos para Club Trinat
REFRESH-INTERVAL;VALUE=DURATION:PT1H
X-Robots-Tag:noindex
X-PUBLISHED-TTL:PT1H
BEGIN:VTIMEZONE
TZID:Europe/Madrid
BEGIN:DAYLIGHT
TZOFFSETFROM:+0100
TZOFFSETTO:+0200
TZNAME:CEST
DTSTART:20230326T010000
END:DAYLIGHT
BEGIN:STANDARD
TZOFFSETFROM:+0200
TZOFFSETTO:+0100
TZNAME:CET
DTSTART:20231029T010000
END:STANDARD
BEGIN:DAYLIGHT
TZOFFSETFROM:+0100
TZOFFSETTO:+0200
TZNAME:CEST
DTSTART:20240331T010000
END:DAYLIGHT
BEGIN:STANDARD
TZOFFSETFROM:+0200
TZOFFSETTO:+0100
TZNAME:CET
DTSTART:20241027T010000
END:STANDARD
BEGIN:DAYLIGHT
TZOFFSETFROM:+0100
TZOFFSETTO:+0200
TZNAME:CEST
DTSTART:20250330T010000
END:DAYLIGHT
BEGIN:STANDARD
TZOFFSETFROM:+0200
TZOFFSETTO:+0100
TZNAME:CET
DTSTART:20251026T010000
END:STANDARD
END:VTIMEZONE
BEGIN:VEVENT
DTSTART;TZID=Europe/Madrid:20241027T082500
DTEND;TZID=Europe/Madrid:20241027T103000
DTSTAMP:20260425T220248
CREATED:20231213T101505Z
LAST-MODIFIED:20241024T094404Z
UID:6314-1730017500-1730025000@www.clubtrinat.com
SUMMARY:33º MEDIO MARATÓN VALENCIA
DESCRIPTION:La S.D. Correcaminos organiza el 33º Medio Maratón Valencia Trinidad Alfonso Zurich\, el domingo día 27 de octubre de 2024.\n\nNotificaciones: Todas las comunicaciones al corredor se realizarán a través del correo electrónico facilitado por el participante en el momento de su inscripción o registro\, o en el correo electrónico modificado posteriormente a través del procedimiento habilitado por la Organización a tal efecto\, en el supuesto que haya decidido modificarlo. Por tanto\, una vez realizada la comunicación por parte de la Organización\, es responsabilidad del corredor revisar su correo electrónico para estar al tanto de la misma.\n\nTrinaters inscrit@s: Guille\, Juan Sebastián.
URL:https://www.clubtrinat.com/evento/33o-medio-maraton-valencia-trinidad-alfonso-zurich/
LOCATION:Valencia
CATEGORIES:Competiciones,Media Maratón
ATTACH;FMTTYPE=image/png:https://www.clubtrinat.com/wordpress/wp-content/uploads/2023/12/Captura-de-pantalla-2023-12-13-a-las-11.12.01.png
END:VEVENT
END:VCALENDAR