BEGIN:VCALENDAR
VERSION:2.0
PRODID:-//Club Trinat - ECPv6.15.15//NONSGML v1.0//EN
CALSCALE:GREGORIAN
METHOD:PUBLISH
X-WR-CALNAME:Club Trinat
X-ORIGINAL-URL:https://www.clubtrinat.com
X-WR-CALDESC:Eventos para Club Trinat
REFRESH-INTERVAL;VALUE=DURATION:PT1H
X-Robots-Tag:noindex
X-PUBLISHED-TTL:PT1H
BEGIN:VTIMEZONE
TZID:Europe/Madrid
BEGIN:DAYLIGHT
TZOFFSETFROM:+0100
TZOFFSETTO:+0200
TZNAME:CEST
DTSTART:20240331T010000
END:DAYLIGHT
BEGIN:STANDARD
TZOFFSETFROM:+0200
TZOFFSETTO:+0100
TZNAME:CET
DTSTART:20241027T010000
END:STANDARD
BEGIN:DAYLIGHT
TZOFFSETFROM:+0100
TZOFFSETTO:+0200
TZNAME:CEST
DTSTART:20250330T010000
END:DAYLIGHT
BEGIN:STANDARD
TZOFFSETFROM:+0200
TZOFFSETTO:+0100
TZNAME:CET
DTSTART:20251026T010000
END:STANDARD
BEGIN:DAYLIGHT
TZOFFSETFROM:+0100
TZOFFSETTO:+0200
TZNAME:CEST
DTSTART:20260329T010000
END:DAYLIGHT
BEGIN:STANDARD
TZOFFSETFROM:+0200
TZOFFSETTO:+0100
TZNAME:CET
DTSTART:20261025T010000
END:STANDARD
END:VTIMEZONE
BEGIN:VEVENT
DTSTART;TZID=Europe/Madrid:20250406T091400
DTEND;TZID=Europe/Madrid:20250406T113000
DTSTAMP:20260425T132211
CREATED:20241002T093839Z
LAST-MODIFIED:20250402T071835Z
UID:6933-1743930840-1743939000@www.clubtrinat.com
SUMMARY:Movistar Medio Maratón Madrid 2025
DESCRIPTION:La Agrupación Deportiva Marathon\, Atresmedia y Sport Life Ibérica organizan\, junto con la colaboración del Excmo. Ayuntamiento de Madrid\, la 24ª edición del Movistar Madrid Medio Maratón\, a celebrar el próximo 6 de abril de 2025\, con salida a las 9:15 h en el Paseo de la Castellana y llegada en el Paseo de Recoletos de la ciudad de Madrid. \nSobre el mismo recorrido se celebrará\, con salida a las 9:14 horas\, la modalidad de personas con discapacidad en silla de ruedas (no handbikes\, modalidad perteneciente a la Federación de Ciclismo). \nNota: Los horarios y la localización de salida y llegada podrán sufrir variaciones por exigencias organizativas. \nArt. 2.- RECORRIDO\nEl circuito del Movistar Madrid Medio Maratón mide 21\,097 Km y está debidamente homologado por la Real Federación Española de Atletismo. Esta prueba se realiza bajo el reglamento de carreras en carretera de la World Athletics y de la RFEA\, y está integrada en el calendario de carreras de la AIMS. El recorrido estará controlado y vigilado por la Policía Municipal\, agentes de movilidad y miembros de la Organización. Cada kilómetro estará señalizado. \nTrinaters inscrit@s: María\, Alejandra\, Denis\, Raúl
URL:https://www.clubtrinat.com/evento/movistar-medio-maraton-madrid-2025/
LOCATION:paseo de la castellana\, Madrid\, paseo de la castellana\, madrid\, madrid\, España
CATEGORIES:Competiciones,Media Maratón
ATTACH;FMTTYPE=image/png:https://www.clubtrinat.com/wordpress/wp-content/uploads/2024/10/Captura-de-pantalla-2024-10-02-a-las-11.35.35.png
END:VEVENT
BEGIN:VEVENT
DTSTART;TZID=Europe/Madrid:20250406T100000
DTEND;TZID=Europe/Madrid:20250406T120000
DTSTAMP:20260425T132211
CREATED:20250129T093450Z
LAST-MODIFIED:20250129T093450Z
UID:7196-1743933600-1743940800@www.clubtrinat.com
SUMMARY:Vig-Bay 2025
DESCRIPTION:El Club de Corredores Vig-Bay organiza el XXIV Medio Maratón Gran Bahía Vig-Bay el domingo día 6 de abril de 2025. \nEl XXIV Medio Maratón Gran Bahía Vig-Bay\, carrera con un recorrido urbano e interurbano de 21.097 metros\, podrán participar todas las personas que lo deseen\, que cumplan 18 años el año de la prueba. Todos los puntos kilométricos estarán indicados con una bandera señalizadora. \nTrinaters inscrit@s: Cris L.
URL:https://www.clubtrinat.com/evento/vig-bay-2025/
LOCATION:Vigo\,Galicia
CATEGORIES:Competiciones,Media Maratón
ATTACH;FMTTYPE=image/png:https://www.clubtrinat.com/wordpress/wp-content/uploads/2025/01/Captura-de-pantalla-2025-01-29-a-las-10.33.14.png
END:VEVENT
BEGIN:VEVENT
DTSTART;TZID=Europe/Madrid:20250406T100500
DTEND;TZID=Europe/Madrid:20250406T120000
DTSTAMP:20260425T132211
CREATED:20241014T084502Z
LAST-MODIFIED:20250402T073829Z
UID:6955-1743933900-1743940800@www.clubtrinat.com
SUMMARY:Media Maratón Berlín
DESCRIPTION:Un reflejo de la historia hecho running\n\n\n\n\nEl Generali Berlin Half Marathon es una carrera urbana con una larga tradición y uno de los medios maratones más importantes del país y de Europa. Su historia refleja una parte importante de la historia de la capital alemana. \nComo ya sabes\, el maratón de Berlín es el más rápido del mundo\, y aunque su hermano pequeño es menos conocido\, el medio maratón de Berlín es una carrera a tener muy en cuenta. Es de los medios maratones más rápidos que existen y es el lugar y evento perfecto para tener una primera toma de contacto con la ciudad de cara a asaltar el maratón que se celebra en septiembre. \nTrinaters inscritos; Juan Sebastián\, Sergio
URL:https://www.clubtrinat.com/evento/media-maraton-berlin/
LOCATION:Berlin\, Berlin\, Alemania
CATEGORIES:Competiciones,Media Maratón
ATTACH;FMTTYPE=image/png:https://www.clubtrinat.com/wordpress/wp-content/uploads/2024/10/Captura-de-pantalla-2024-10-14-a-las-10.43.13.png
END:VEVENT
END:VCALENDAR