BEGIN:VCALENDAR
VERSION:2.0
PRODID:-//Club Trinat - ECPv6.15.15//NONSGML v1.0//EN
CALSCALE:GREGORIAN
METHOD:PUBLISH
X-ORIGINAL-URL:https://www.clubtrinat.com
X-WR-CALDESC:Eventos para Club Trinat
REFRESH-INTERVAL;VALUE=DURATION:PT1H
X-Robots-Tag:noindex
X-PUBLISHED-TTL:PT1H
BEGIN:VTIMEZONE
TZID:Europe/Madrid
BEGIN:DAYLIGHT
TZOFFSETFROM:+0100
TZOFFSETTO:+0200
TZNAME:CEST
DTSTART:20240331T010000
END:DAYLIGHT
BEGIN:STANDARD
TZOFFSETFROM:+0200
TZOFFSETTO:+0100
TZNAME:CET
DTSTART:20241027T010000
END:STANDARD
BEGIN:DAYLIGHT
TZOFFSETFROM:+0100
TZOFFSETTO:+0200
TZNAME:CEST
DTSTART:20250330T010000
END:DAYLIGHT
BEGIN:STANDARD
TZOFFSETFROM:+0200
TZOFFSETTO:+0100
TZNAME:CET
DTSTART:20251026T010000
END:STANDARD
BEGIN:DAYLIGHT
TZOFFSETFROM:+0100
TZOFFSETTO:+0200
TZNAME:CEST
DTSTART:20260329T010000
END:DAYLIGHT
BEGIN:STANDARD
TZOFFSETFROM:+0200
TZOFFSETTO:+0100
TZNAME:CET
DTSTART:20261025T010000
END:STANDARD
END:VTIMEZONE
BEGIN:VEVENT
DTSTART;TZID=Europe/Madrid:20250427T080000
DTEND;TZID=Europe/Madrid:20250427T170000
DTSTAMP:20260425T132405
CREATED:20241210T111855Z
LAST-MODIFIED:20250423T071306Z
UID:7073-1745740800-1745773200@www.clubtrinat.com
SUMMARY:Rock and Roll Madrid 2025
DESCRIPTION:El 27 de abril de 2025 el Zurich Rock ‘n’ Roll Running Series Madrid celebrará 47 ediciones corriendo por las calles más bonitas de la capital junto a 40.000 participantes de todo el mundo\, que cruzarán fronteras y se calzarán las zapatillas para disfrutar la carrera más bonita de España. \n\n\n\nCon 3 distancias\, Maratón\, Media Maratón y 10K de modo que todo el mundo puede disfrutar de la mayor fiesta del running del país y de su inigualable ambiente en el que miles de espectadores salen a las calles ese día para animar a los corredores y sentirse partícipes de esta gran celebración.\n\n\nAdemás de contar con un recorrido increíblemente bello y turístico por el corazón de la capital\, el Zurich Rock ‘n’ Roll Running Series Madrid es una auténtica fiesta del running\, en la que más de 30 puntos de animación situados a lo largo del recorrido pondrán ritmo a esta increíble experiencia.\n\n\n\nDISTANCIAS Y HORARIOS\n\n\n\n\n\nMaratón: 9:00 am\nMedio Maratón: 9:00 am\n10km: 8:00 am\n\n\n\n\n\n\n\nTrinaters inscritos: Maratón: Diego\, Fonso\, Lola\,Denis \n                                        1/2: Raúl B.\, Andrea de la Isla\, Cristina Tinajo\, Gas\, Sergio Cledera
URL:https://www.clubtrinat.com/evento/rock-and-roll-madrid-2025/
LOCATION:Madrid\, Madrid\, España
CATEGORIES:10K,Competiciones,Marathon,Media Maratón
ATTACH;FMTTYPE=image/png:https://www.clubtrinat.com/wordpress/wp-content/uploads/2024/12/Captura-de-pantalla-2024-12-10-a-las-12.15.39.png
END:VEVENT
END:VCALENDAR