BEGIN:VCALENDAR
VERSION:2.0
PRODID:-//Club Trinat - ECPv6.15.15//NONSGML v1.0//EN
CALSCALE:GREGORIAN
METHOD:PUBLISH
X-WR-CALNAME:Club Trinat
X-ORIGINAL-URL:https://www.clubtrinat.com
X-WR-CALDESC:Eventos para Club Trinat
REFRESH-INTERVAL;VALUE=DURATION:PT1H
X-Robots-Tag:noindex
X-PUBLISHED-TTL:PT1H
BEGIN:VTIMEZONE
TZID:Europe/Madrid
BEGIN:DAYLIGHT
TZOFFSETFROM:+0100
TZOFFSETTO:+0200
TZNAME:CEST
DTSTART:20240331T010000
END:DAYLIGHT
BEGIN:STANDARD
TZOFFSETFROM:+0200
TZOFFSETTO:+0100
TZNAME:CET
DTSTART:20241027T010000
END:STANDARD
BEGIN:DAYLIGHT
TZOFFSETFROM:+0100
TZOFFSETTO:+0200
TZNAME:CEST
DTSTART:20250330T010000
END:DAYLIGHT
BEGIN:STANDARD
TZOFFSETFROM:+0200
TZOFFSETTO:+0100
TZNAME:CET
DTSTART:20251026T010000
END:STANDARD
BEGIN:DAYLIGHT
TZOFFSETFROM:+0100
TZOFFSETTO:+0200
TZNAME:CEST
DTSTART:20260329T010000
END:DAYLIGHT
BEGIN:STANDARD
TZOFFSETFROM:+0200
TZOFFSETTO:+0100
TZNAME:CET
DTSTART:20261025T010000
END:STANDARD
END:VTIMEZONE
BEGIN:VEVENT
DTSTART;TZID=Europe/Madrid:20251109T100000
DTEND;TZID=Europe/Madrid:20251109T130000
DTSTAMP:20260425T022001
CREATED:20250421T092608Z
LAST-MODIFIED:20250909T081252Z
UID:7318-1762682400-1762693200@www.clubtrinat.com
SUMMARY:Behobia-SS 2025
DESCRIPTION:El CLUB DEPORTIVO FORTUNA\, con el patrocinio de Joma\, organiza la 60a edición de la Carrera Pedestre BEHOBIA-SAN SEBASTIAN\, que se celebrará el 9 de noviembre de 2025\, sobre una distancia de 20 kilómetros\, en la que podrá participar toda persona que tenga 16 años el día de la carrera y que no tenga sanción federativa. El cupo máximo de participación se fija en 28.000 atletas. \nTrinaters inscrit@s: Isoseba\, Sergio\, 
URL:https://www.clubtrinat.com/evento/behobia-ss-2025/
LOCATION:Behobia\, Behobia (Irun)\, Irun\, España
CATEGORIES:Competiciones,Media Maratón
ATTACH;FMTTYPE=image/png:https://www.clubtrinat.com/wordpress/wp-content/uploads/2025/04/Captura-de-pantalla-2025-04-21-a-las-11.22.48.png
END:VEVENT
END:VCALENDAR