BEGIN:VCALENDAR
VERSION:2.0
PRODID:-//Club Trinat - ECPv6.15.15//NONSGML v1.0//EN
CALSCALE:GREGORIAN
METHOD:PUBLISH
X-ORIGINAL-URL:https://www.clubtrinat.com
X-WR-CALDESC:Eventos para Club Trinat
REFRESH-INTERVAL;VALUE=DURATION:PT1H
X-Robots-Tag:noindex
X-PUBLISHED-TTL:PT1H
BEGIN:VTIMEZONE
TZID:Europe/Madrid
BEGIN:DAYLIGHT
TZOFFSETFROM:+0100
TZOFFSETTO:+0200
TZNAME:CEST
DTSTART:20240331T010000
END:DAYLIGHT
BEGIN:STANDARD
TZOFFSETFROM:+0200
TZOFFSETTO:+0100
TZNAME:CET
DTSTART:20241027T010000
END:STANDARD
BEGIN:DAYLIGHT
TZOFFSETFROM:+0100
TZOFFSETTO:+0200
TZNAME:CEST
DTSTART:20250330T010000
END:DAYLIGHT
BEGIN:STANDARD
TZOFFSETFROM:+0200
TZOFFSETTO:+0100
TZNAME:CET
DTSTART:20251026T010000
END:STANDARD
BEGIN:DAYLIGHT
TZOFFSETFROM:+0100
TZOFFSETTO:+0200
TZNAME:CEST
DTSTART:20260329T010000
END:DAYLIGHT
BEGIN:STANDARD
TZOFFSETFROM:+0200
TZOFFSETTO:+0100
TZNAME:CET
DTSTART:20261025T010000
END:STANDARD
END:VTIMEZONE
BEGIN:VEVENT
DTSTART;TZID=Europe/Madrid:20251115T100000
DTEND;TZID=Europe/Madrid:20251115T120000
DTSTAMP:20260426T023154
CREATED:20251015T091323Z
LAST-MODIFIED:20251114T084428Z
UID:7672-1763200800-1763208000@www.clubtrinat.com
SUMMARY:Moraltrail 2025
DESCRIPTION:La 12ª Carrera por Montaña “MORALTRAIL RACE” se celebrará el 15 de noviembre de 2025 y estará organizada por la entidad CULMINIS-YouEvent en colaboración con el Ayuntamiento de Moralzarzal. Dentro de la jornada\, se llevarán a cabo dos carreras: \n\nMoralTrail Race 9K con salida a las 10:00 horas.\nMoralTrail Race 17K con salida también a las 10:30 horas.\n\nTrinaters inscrit@s: Victor\, Tato\, Gas\, Jaime\, Fonso\, Rober
URL:https://www.clubtrinat.com/evento/moraltrail-2025/
LOCATION:Moralzarzal\, Plaza de Los Caños\, Moralzarzal\, España
CATEGORIES:Competiciones,Trail
ATTACH;FMTTYPE=image/png:https://www.clubtrinat.com/wordpress/wp-content/uploads/2025/10/Captura-de-pantalla-2025-10-15-a-las-11.05.40.png
END:VEVENT
END:VCALENDAR