BEGIN:VCALENDAR
VERSION:2.0
PRODID:-//Club Trinat - ECPv6.15.15//NONSGML v1.0//EN
CALSCALE:GREGORIAN
METHOD:PUBLISH
X-ORIGINAL-URL:https://www.clubtrinat.com
X-WR-CALDESC:Eventos para Club Trinat
REFRESH-INTERVAL;VALUE=DURATION:PT1H
X-Robots-Tag:noindex
X-PUBLISHED-TTL:PT1H
BEGIN:VTIMEZONE
TZID:Europe/Madrid
BEGIN:DAYLIGHT
TZOFFSETFROM:+0100
TZOFFSETTO:+0200
TZNAME:CEST
DTSTART:20240331T010000
END:DAYLIGHT
BEGIN:STANDARD
TZOFFSETFROM:+0200
TZOFFSETTO:+0100
TZNAME:CET
DTSTART:20241027T010000
END:STANDARD
BEGIN:DAYLIGHT
TZOFFSETFROM:+0100
TZOFFSETTO:+0200
TZNAME:CEST
DTSTART:20250330T010000
END:DAYLIGHT
BEGIN:STANDARD
TZOFFSETFROM:+0200
TZOFFSETTO:+0100
TZNAME:CET
DTSTART:20251026T010000
END:STANDARD
BEGIN:DAYLIGHT
TZOFFSETFROM:+0100
TZOFFSETTO:+0200
TZNAME:CEST
DTSTART:20260329T010000
END:DAYLIGHT
BEGIN:STANDARD
TZOFFSETFROM:+0200
TZOFFSETTO:+0100
TZNAME:CET
DTSTART:20261025T010000
END:STANDARD
END:VTIMEZONE
BEGIN:VEVENT
DTSTART;TZID=Europe/Madrid:20251214T091000
DTEND;TZID=Europe/Madrid:20251214T140000
DTSTAMP:20260426T005020
CREATED:20251119T083224Z
LAST-MODIFIED:20251205T080614Z
UID:7742-1765703400-1765720800@www.clubtrinat.com
SUMMARY:Cross de los poetas 2025
DESCRIPTION:Domingo 14 de Diciembre de 2025\nLugar: Dehesa de la Villa (C/ Francos Rodríguez frente al I.E.S. Virgen de la Paloma) \nHora:   \nDe 09:30 a 11:30 atletas nacidos desde 2009 y anteriores\n11:40 atletas nacidos entre 2025 y 2010\n\nTrinaters inscrit@s: Laura\, Tato\, Victor\, Alberto\, Denis\, Rober\, Sergio\, Daniel\, Marga\, María\, Fonso\, Iris\,
URL:https://www.clubtrinat.com/evento/cross-de-los-poetas-2025/
LOCATION:Dehesa de la Villa
CATEGORIES:Competiciones,Trail
ATTACH;FMTTYPE=image/png:https://www.clubtrinat.com/wordpress/wp-content/uploads/2025/11/Captura-de-pantalla-2025-11-19-a-las-9.31.18.png
END:VEVENT
BEGIN:VEVENT
DTSTART;TZID=Europe/Madrid:20251214T103000
DTEND;TZID=Europe/Madrid:20251214T120000
DTSTAMP:20260426T005020
CREATED:20251205T080427Z
LAST-MODIFIED:20251205T080428Z
UID:7851-1765708200-1765713600@www.clubtrinat.com
SUMMARY:Carrera de Navidad Cercedilla 2025
DESCRIPTION:La XXI edición de la Carrera de Navidad de Cercedilla cuenta con la colaboración del Excmo. Ayuntamiento de Cercedilla y la organización de Sport Life Ibérica y el Club Deporte y Naturaleza Siete Picos Cercedilla. \nLa revista oficial de la prueba es Trail Run. \nTrinaters inscritos: Clede\,
URL:https://www.clubtrinat.com/evento/carrera-de-navidad-cercedilla-2025/
LOCATION:cercedilla
CATEGORIES:Competiciones,Trail
ATTACH;FMTTYPE=image/png:https://www.clubtrinat.com/wordpress/wp-content/uploads/2025/12/Captura-de-pantalla-2025-12-05-a-las-9.03.39.png
END:VEVENT
END:VCALENDAR