BEGIN:VCALENDAR
VERSION:2.0
PRODID:-//Club Trinat - ECPv6.15.15//NONSGML v1.0//EN
CALSCALE:GREGORIAN
METHOD:PUBLISH
X-ORIGINAL-URL:https://www.clubtrinat.com
X-WR-CALDESC:Eventos para Club Trinat
REFRESH-INTERVAL;VALUE=DURATION:PT1H
X-Robots-Tag:noindex
X-PUBLISHED-TTL:PT1H
BEGIN:VTIMEZONE
TZID:Europe/Madrid
BEGIN:DAYLIGHT
TZOFFSETFROM:+0100
TZOFFSETTO:+0200
TZNAME:CEST
DTSTART:20220327T010000
END:DAYLIGHT
BEGIN:STANDARD
TZOFFSETFROM:+0200
TZOFFSETTO:+0100
TZNAME:CET
DTSTART:20221030T010000
END:STANDARD
BEGIN:DAYLIGHT
TZOFFSETFROM:+0100
TZOFFSETTO:+0200
TZNAME:CEST
DTSTART:20230326T010000
END:DAYLIGHT
BEGIN:STANDARD
TZOFFSETFROM:+0200
TZOFFSETTO:+0100
TZNAME:CET
DTSTART:20231029T010000
END:STANDARD
BEGIN:DAYLIGHT
TZOFFSETFROM:+0100
TZOFFSETTO:+0200
TZNAME:CEST
DTSTART:20240331T010000
END:DAYLIGHT
BEGIN:STANDARD
TZOFFSETFROM:+0200
TZOFFSETTO:+0100
TZNAME:CET
DTSTART:20241027T010000
END:STANDARD
END:VTIMEZONE
BEGIN:VEVENT
DTSTART;TZID=Europe/Madrid:20230722T100000
DTEND;TZID=Europe/Madrid:20230722T120000
DTSTAMP:20260426T042019
CREATED:20230710T113240Z
LAST-MODIFIED:20230710T113240Z
UID:6010-1690020000-1690027200@www.clubtrinat.com
SUMMARY:XXXVII TRAVESIA PLATGES DE OROPESA\,
DESCRIPTION:Información Básica\n\nHorario y lugar de la prueba\nAmbas travesías finalizarán en la zona del puerto deportivo\, donde se entregará el avituallamiento a los deportistas y trofeos a los 3 primeros de cada categoría en cada distancia.\nPolítica de devoluciones\ninfo@evasionrunning.es\n\n\n\nReglamento\n\n1. ORGANIZACIÓN \nEl Exc. Ayuntamiento de Oropesa del Mar y el Club Open Water Swimming organizan la XXXVII TRAVESIA PLATGES DE OROPESA\, prueba que se celebrará el sábado 22 de julio y está compuesto de dos pruebas: \n\nXXXVII TRAVESIA POPULAR con salida en la playa de la Concha de 1000 m. – 10:00 h.\n\nTrinaters inscritos: Rob
URL:https://www.clubtrinat.com/evento/xxxvii-travesia-platges-de-oropesa/
LOCATION:Oropesa del mar\, España
CATEGORIES:Natación
ATTACH;FMTTYPE=image/png:https://www.clubtrinat.com/wordpress/wp-content/uploads/2023/07/Captura-de-pantalla-2023-07-10-a-las-13.01.27.png
END:VEVENT
BEGIN:VEVENT
DTSTART;TZID=Europe/Madrid:20230722T110000
DTEND;TZID=Europe/Madrid:20230722T140000
DTSTAMP:20260426T042019
CREATED:20230710T104546Z
LAST-MODIFIED:20230710T104547Z
UID:5995-1690023600-1690034400@www.clubtrinat.com
SUMMARY:51 Travesía Getaria-Zarautz
DESCRIPTION:Tanto la salida como la meta estará ubicada en el puerto de Zarautz\, y las y los nadadores deberán ir hasta Mollarri (paralelo a la playa de Zarautz) y volver\, hasta completar los 5.000 metros de distancia. El recorrido se realizará tal y como aparece en el mapa inferior\, dejando las 3 boyas a la derecha.\n\n\nTanto la zona para recoger la bolsa del nadador o la nadadora como la zona para realizar el marcaje del dorsal estarán ubicadas en la Plaza Munoa (Zarautz). Podéis ver en el mapa inferior la ubicación de esta plaza. La consigna también se ubicará en la misma plaza. \n\n\n\n\n\n\n\n\n\nDía: 22 de julio\, sábado\nHora: 11:00\nDistancia: 5.000 m\nNúmero de participantes: 500 participantes\nSalida: Puerto de Zarautz\nLlegada: Puerto de Zarautz\n\nTrinaters inscritos: Joaquin\, Abraham
URL:https://www.clubtrinat.com/evento/51-travesia-getaria-zarautz/
LOCATION:zarautz\, zarautz\, Pais Vasco\, España
CATEGORIES:Natación
ATTACH;FMTTYPE=image/png:https://www.clubtrinat.com/wordpress/wp-content/uploads/2023/07/Captura-de-pantalla-2023-07-10-a-las-12.42.18.png
END:VEVENT
BEGIN:VEVENT
DTSTART;TZID=Europe/Madrid:20230722T180000
DTEND;TZID=Europe/Madrid:20230722T200000
DTSTAMP:20260426T042019
CREATED:20230710T120000Z
LAST-MODIFIED:20230710T120001Z
UID:6033-1690048800-1690056000@www.clubtrinat.com
SUMMARY:XXVI Travesía a nado Ría de Ares 2023
DESCRIPTION:Sábado 22 de xullo de 2023\, 18:00h na rampa grande de Ares \nInscricións: Previas a través de www.concellodeares.gal no apartado Travesía a Nado da Ría. \nAdemáis\, o mesmo día da proba disporanse ata 25 prazas para participar que cubriranse por rigorosa orde de inscrición na Rampa Grande de Ares (Posto de Socorrismo)\, debendo inscribirse de 16:00 a 17:15h. \n\nTrinaters inscritos: Manuel
URL:https://www.clubtrinat.com/evento/xxvi-travesia-a-nado-ria-de-ares-2023/
LOCATION:concello de Ares\, Ares\, A Coruña\, España
CATEGORIES:Natación
ATTACH;FMTTYPE=image/jpeg:https://www.clubtrinat.com/wordpress/wp-content/uploads/2023/07/PHOTO-2023-07-10-13-55-15.jpg
END:VEVENT
END:VCALENDAR