BEGIN:VCALENDAR
VERSION:2.0
PRODID:-//Club Trinat - ECPv6.15.15//NONSGML v1.0//EN
CALSCALE:GREGORIAN
METHOD:PUBLISH
X-WR-CALNAME:Club Trinat
X-ORIGINAL-URL:https://www.clubtrinat.com
X-WR-CALDESC:Eventos para Club Trinat
REFRESH-INTERVAL;VALUE=DURATION:PT1H
X-Robots-Tag:noindex
X-PUBLISHED-TTL:PT1H
BEGIN:VTIMEZONE
TZID:Europe/Madrid
BEGIN:DAYLIGHT
TZOFFSETFROM:+0100
TZOFFSETTO:+0200
TZNAME:CEST
DTSTART:20230326T010000
END:DAYLIGHT
BEGIN:STANDARD
TZOFFSETFROM:+0200
TZOFFSETTO:+0100
TZNAME:CET
DTSTART:20231029T010000
END:STANDARD
BEGIN:DAYLIGHT
TZOFFSETFROM:+0100
TZOFFSETTO:+0200
TZNAME:CEST
DTSTART:20240331T010000
END:DAYLIGHT
BEGIN:STANDARD
TZOFFSETFROM:+0200
TZOFFSETTO:+0100
TZNAME:CET
DTSTART:20241027T010000
END:STANDARD
BEGIN:DAYLIGHT
TZOFFSETFROM:+0100
TZOFFSETTO:+0200
TZNAME:CEST
DTSTART:20250330T010000
END:DAYLIGHT
BEGIN:STANDARD
TZOFFSETFROM:+0200
TZOFFSETTO:+0100
TZNAME:CET
DTSTART:20251026T010000
END:STANDARD
END:VTIMEZONE
BEGIN:VEVENT
DTSTART;TZID=Europe/Madrid:20240928T090000
DTEND;TZID=Europe/Madrid:20240928T130000
DTSTAMP:20260425T055747
CREATED:20240911T082033Z
LAST-MODIFIED:20240911T082034Z
UID:6860-1727514000-1727528400@www.clubtrinat.com
SUMMARY:Travesía a nado Mar de Las Calmas
DESCRIPTION:1.1 La Travesía a nado Mar de Las Calmas está organizada por el Ayuntamiento de El Pinar de El Hierro.\n\n\n\n\n1.2 Las siguientes reglas son aplicables a la prueba de natación correspondiente a la 11ª edición de la Travesía a nado Mar de Las Calmas. Dicha normativa puede estar sujeta a cambios desde el momento de su publicación hasta la celebración de la prueba. En caso de duda en su interpretación prevalecerá la opinión y decisión de la organización. Todos los participantes con su inscripción aceptan íntegramente el presente reglamento. \n1.3 La organización se reserva el derecho de modificar el contenido del presente reglamento siempre que la seguridad de la prueba y la integridad de los participantes y los organizadores así lo aconsejen. \n1.4 La fecha de realización de la prueba será el día 28 de septiembre de 2024. \n1.5 La travesía consta de 3 distancias con inicio en tres puntos emblemáticos de la isla de El Hierro y del Mar de Las Calmas y con finalización en el pueblo de La Restinga: \nTrinaters inscritos: Gas
URL:https://www.clubtrinat.com/evento/travesia-a-nado-mar-de-las-calmas/
LOCATION:Hierro\, Hierro\, Islas Canarias\, Spain
CATEGORIES:Competiciones,Natación
ATTACH;FMTTYPE=image/png:https://www.clubtrinat.com/wordpress/wp-content/uploads/2024/09/Captura-de-pantalla-2024-09-11-a-las-10.20.03.png
END:VEVENT
END:VCALENDAR