BEGIN:VCALENDAR
VERSION:2.0
PRODID:-//Club Trinat - ECPv6.15.15//NONSGML v1.0//EN
CALSCALE:GREGORIAN
METHOD:PUBLISH
X-WR-CALNAME:Club Trinat
X-ORIGINAL-URL:https://www.clubtrinat.com
X-WR-CALDESC:Eventos para Club Trinat
REFRESH-INTERVAL;VALUE=DURATION:PT1H
X-Robots-Tag:noindex
X-PUBLISHED-TTL:PT1H
BEGIN:VTIMEZONE
TZID:Europe/Madrid
BEGIN:DAYLIGHT
TZOFFSETFROM:+0100
TZOFFSETTO:+0200
TZNAME:CEST
DTSTART:20230326T010000
END:DAYLIGHT
BEGIN:STANDARD
TZOFFSETFROM:+0200
TZOFFSETTO:+0100
TZNAME:CET
DTSTART:20231029T010000
END:STANDARD
BEGIN:DAYLIGHT
TZOFFSETFROM:+0100
TZOFFSETTO:+0200
TZNAME:CEST
DTSTART:20240331T010000
END:DAYLIGHT
BEGIN:STANDARD
TZOFFSETFROM:+0200
TZOFFSETTO:+0100
TZNAME:CET
DTSTART:20241027T010000
END:STANDARD
BEGIN:DAYLIGHT
TZOFFSETFROM:+0100
TZOFFSETTO:+0200
TZNAME:CEST
DTSTART:20250330T010000
END:DAYLIGHT
BEGIN:STANDARD
TZOFFSETFROM:+0200
TZOFFSETTO:+0100
TZNAME:CET
DTSTART:20251026T010000
END:STANDARD
END:VTIMEZONE
BEGIN:VEVENT
DTSTART;TZID=Europe/Madrid:20241221T150000
DTEND;TZID=Europe/Madrid:20241221T183000
DTSTAMP:20260425T012022
CREATED:20241114T105223Z
LAST-MODIFIED:20241114T105223Z
UID:7008-1734793200-1734805800@www.clubtrinat.com
SUMMARY:100x100swim Villanueva de la Cañada
DESCRIPTION:Cuándo: Sábado\, 21 de diciembre de 2024 a las 15:00\nLugar: Villanueva de la Cañada\nPoblación: Villanueva de la Cañada\nProvincia: Madrid\nFechas de inscripción: Del 29/10/2024 a las 0:00 al 10/12/2024 a las 23:00\nLugar: Complejo deportivo Santiago Apostol c /Mirasierra s/n Villanueva de la Cañada\nPROGRAMA: \n14.00 h. Acreditaciones Serie A \n14.30 h. Calentamiento \n15.00 h. Inicio de la prueba Serie A \n17.30 h. Entrega de premios serie A \n17.30 h. Acreditaciones Serie B \n18.00 h. Calentamiento \n18.30 h. Inicio de la prueba serie B \n21.00 h. Entrega de premios serie B
URL:https://www.clubtrinat.com/evento/100x100swim-villanueva-de-la-canada/
LOCATION:Villanueva de la Cañada\, España
CATEGORIES:Competiciones,Natación
ATTACH;FMTTYPE=image/png:https://www.clubtrinat.com/wordpress/wp-content/uploads/2024/11/Captura-de-pantalla-2024-11-14-a-las-11.37.23.png
END:VEVENT
END:VCALENDAR