BEGIN:VCALENDAR
VERSION:2.0
PRODID:-//Club Trinat - ECPv6.15.15//NONSGML v1.0//EN
CALSCALE:GREGORIAN
METHOD:PUBLISH
X-ORIGINAL-URL:https://www.clubtrinat.com
X-WR-CALDESC:Eventos para Club Trinat
REFRESH-INTERVAL;VALUE=DURATION:PT1H
X-Robots-Tag:noindex
X-PUBLISHED-TTL:PT1H
BEGIN:VTIMEZONE
TZID:Europe/Madrid
BEGIN:DAYLIGHT
TZOFFSETFROM:+0100
TZOFFSETTO:+0200
TZNAME:CEST
DTSTART:20240331T010000
END:DAYLIGHT
BEGIN:STANDARD
TZOFFSETFROM:+0200
TZOFFSETTO:+0100
TZNAME:CET
DTSTART:20241027T010000
END:STANDARD
BEGIN:DAYLIGHT
TZOFFSETFROM:+0100
TZOFFSETTO:+0200
TZNAME:CEST
DTSTART:20250330T010000
END:DAYLIGHT
BEGIN:STANDARD
TZOFFSETFROM:+0200
TZOFFSETTO:+0100
TZNAME:CET
DTSTART:20251026T010000
END:STANDARD
BEGIN:DAYLIGHT
TZOFFSETFROM:+0100
TZOFFSETTO:+0200
TZNAME:CEST
DTSTART:20260329T010000
END:DAYLIGHT
BEGIN:STANDARD
TZOFFSETFROM:+0200
TZOFFSETTO:+0100
TZNAME:CET
DTSTART:20261025T010000
END:STANDARD
END:VTIMEZONE
BEGIN:VEVENT
DTSTART;TZID=Europe/Madrid:20250629T080000
DTEND;TZID=Europe/Madrid:20250629T170000
DTSTAMP:20260424T174559
CREATED:20250505T072847Z
LAST-MODIFIED:20250505T072847Z
UID:7351-1751184000-1751216400@www.clubtrinat.com
SUMMARY:III Travesía a nado Cervera de Buitrago
DESCRIPTION:Después de demasiado tiempo sin nadar en Madrid\, ya es hora de volver a nuestros embalses\, lagos y ríos. \n¡En Madrid\, también se nada! \nTrinaters inscritos: Joao
URL:https://www.clubtrinat.com/evento/iii-travesia-a-nado-cervera-de-buitrago/
LOCATION:Buitrago de Lozoya\, Madrid\, España
CATEGORIES:Competiciones,Natación
ATTACH;FMTTYPE=image/png:https://www.clubtrinat.com/wordpress/wp-content/uploads/2025/05/Captura-de-pantalla-2025-05-05-a-las-9.27.48.png
END:VEVENT
END:VCALENDAR