BEGIN:VCALENDAR
VERSION:2.0
PRODID:-//Club Trinat - ECPv6.15.15//NONSGML v1.0//EN
CALSCALE:GREGORIAN
METHOD:PUBLISH
X-WR-CALNAME:Club Trinat
X-ORIGINAL-URL:https://www.clubtrinat.com
X-WR-CALDESC:Eventos para Club Trinat
REFRESH-INTERVAL;VALUE=DURATION:PT1H
X-Robots-Tag:noindex
X-PUBLISHED-TTL:PT1H
BEGIN:VTIMEZONE
TZID:Europe/Madrid
BEGIN:DAYLIGHT
TZOFFSETFROM:+0100
TZOFFSETTO:+0200
TZNAME:CEST
DTSTART:20240331T010000
END:DAYLIGHT
BEGIN:STANDARD
TZOFFSETFROM:+0200
TZOFFSETTO:+0100
TZNAME:CET
DTSTART:20241027T010000
END:STANDARD
BEGIN:DAYLIGHT
TZOFFSETFROM:+0100
TZOFFSETTO:+0200
TZNAME:CEST
DTSTART:20250330T010000
END:DAYLIGHT
BEGIN:STANDARD
TZOFFSETFROM:+0200
TZOFFSETTO:+0100
TZNAME:CET
DTSTART:20251026T010000
END:STANDARD
BEGIN:DAYLIGHT
TZOFFSETFROM:+0100
TZOFFSETTO:+0200
TZNAME:CEST
DTSTART:20260329T010000
END:DAYLIGHT
BEGIN:STANDARD
TZOFFSETFROM:+0200
TZOFFSETTO:+0100
TZNAME:CET
DTSTART:20261025T010000
END:STANDARD
END:VTIMEZONE
BEGIN:VEVENT
DTSTART;TZID=Europe/Madrid:20250730T190000
DTEND;TZID=Europe/Madrid:20250730T220000
DTSTAMP:20260426T043539
CREATED:20250718T074530Z
LAST-MODIFIED:20250718T074531Z
UID:7478-1753902000-1753912800@www.clubtrinat.com
SUMMARY:Picnic Trinat
DESCRIPTION:Un año más queremos despedir la temporada\, celebrando nuestro tradicional picnic en la Dehesa de la Villa. Un momento para compartir los grandes momentos de esta temporada. \nNo te lo pierdas!!! \n  \n 
URL:https://www.clubtrinat.com/evento/picnic-trinat-3/
LOCATION:Dehesa de la Villa
CATEGORIES:Trinat Experience
ATTACH;FMTTYPE=image/jpeg:https://www.clubtrinat.com/wordpress/wp-content/uploads/2023/11/374690933_860620699121833_4409208906245172099_n.jpg
END:VEVENT
END:VCALENDAR