BEGIN:VCALENDAR
VERSION:2.0
PRODID:-//Club Trinat - ECPv6.15.15//NONSGML v1.0//EN
CALSCALE:GREGORIAN
METHOD:PUBLISH
X-WR-CALNAME:Club Trinat
X-ORIGINAL-URL:https://www.clubtrinat.com
X-WR-CALDESC:Eventos para Club Trinat
REFRESH-INTERVAL;VALUE=DURATION:PT1H
X-Robots-Tag:noindex
X-PUBLISHED-TTL:PT1H
BEGIN:VTIMEZONE
TZID:Europe/Madrid
BEGIN:DAYLIGHT
TZOFFSETFROM:+0100
TZOFFSETTO:+0200
TZNAME:CEST
DTSTART:20250330T010000
END:DAYLIGHT
BEGIN:STANDARD
TZOFFSETFROM:+0200
TZOFFSETTO:+0100
TZNAME:CET
DTSTART:20251026T010000
END:STANDARD
BEGIN:DAYLIGHT
TZOFFSETFROM:+0100
TZOFFSETTO:+0200
TZNAME:CEST
DTSTART:20260329T010000
END:DAYLIGHT
BEGIN:STANDARD
TZOFFSETFROM:+0200
TZOFFSETTO:+0100
TZNAME:CET
DTSTART:20261025T010000
END:STANDARD
BEGIN:DAYLIGHT
TZOFFSETFROM:+0100
TZOFFSETTO:+0200
TZNAME:CEST
DTSTART:20270328T010000
END:DAYLIGHT
BEGIN:STANDARD
TZOFFSETFROM:+0200
TZOFFSETTO:+0100
TZNAME:CET
DTSTART:20271031T010000
END:STANDARD
END:VTIMEZONE
BEGIN:VEVENT
DTSTART;TZID=Europe/Madrid:20260418T083000
DTEND;TZID=Europe/Madrid:20260418T133000
DTSTAMP:20260425T150012
CREATED:20260318T082833Z
LAST-MODIFIED:20260318T082833Z
UID:7973-1776501000-1776519000@www.clubtrinat.com
SUMMARY:Duatlón Villa de Madrid 2026
DESCRIPTION:El Duatlón Villa de Madrid tendrá lugar el sábado 18 de abril de 2026\, con la zona central en la Plaza de Castilla. \nEl recorrido ciclista es sobre asfalto\, un circuito circular a lo largo del Paseo de la Castellana\, pudiendo participar con bicicleta de montaña o de carretera en la distancia SPRINT y  SÓLO de carretera en la distancia ESTANDAR (10-40-5). \nLa participación está abierta a todo tipo de deportistas\, federados o no\, a partir de la categoría JUVENIL en la distancia Sprint\, y a partir de la categoría JUNIOR en la distancia Estandar. \nLa distancia SPRINT podrá realizarse individual o por RELEVOS. Los equipos estarán formados por dos personas\, uno hará las dos carreras a pie y la otra el ciclismo. Los equipos pueden ser masculinos\, femeninos o mixtos. \nTrinaters inscritos: Jaime\, Fonso\,
URL:https://www.clubtrinat.com/evento/duatlon-villa-de-madrid-2026/
LOCATION:Plaza Castilla\, Plaza Castilla\, Madrid\, Madrid\, Spain
CATEGORIES:Competiciones,Duatlon
ATTACH;FMTTYPE=image/png:https://www.clubtrinat.com/wordpress/wp-content/uploads/2026/03/Captura-de-pantalla-2026-03-18-a-las-9.26.00.png
END:VEVENT
BEGIN:VEVENT
DTSTART;VALUE=DATE:20260420
DTEND;VALUE=DATE:20260422
DTSTAMP:20260425T150012
CREATED:20260420T102338Z
LAST-MODIFIED:20260420T122131Z
UID:7993-1776643200-1776815999@www.clubtrinat.com
SUMMARY:Gran triatlón Madrid 2016
DESCRIPTION:El Gran Triatlón de Madrid es más que una competición: es una celebración del deporte y del espíritu de superación. Deja que te demos varias razones por las que no puedes perderte esta edición: \n\nVariedad de modalidades y distancias. Tanto si eres un principiante como un triatleta experimentado\, en el Gran Triatlón Madrid encontrarás la prueba perfecta para ti. Ofrecemos distintas distancias\, desde el triatlón sprint hasta la modalidad olímpica\, para que elijas la que mejor se adapte a tu nivel y objetivos.\nEscenario inigualable. Disfruta de un recorrido que cuenta con amplios espacios verdes y un ambiente ideal para el triatlón en Madrid. Su ubicación privilegiada y fácil acceso hacen de este parque el lugar perfecto para una competición memorable de triatlón.\nAmbiente único. Más que una carrera\, el Gran Triatlón Madrid es un encuentro con otros apasionados del triatlón. Disfrutarás de un ambiente increíble con personas que comparten tu misma pasión. ¡Haz nuevas amistades y vive el triatlón de una forma diferente!\nRed de apoyo y seguridad. Contamos con un equipo de profesionales y voluntarios comprometidos en brindarte la mejor experiencia posible. Desde avituallamientos hasta apoyo médico\, estarás en las mejores manos durante todo el recorrido. Tú solo preocúpate por disfrutar del triatlón en Madrid.\n\nTrinaters inscritos: Individual: Fonso\, Rober\, \n          Equipos: Gas\, Adrián\, Jaime\, Raúl
URL:https://www.clubtrinat.com/evento/gran-triatlon-madrid-2016/
LOCATION:Casa de Campo\, Paseo Puerta del Ángel\, s/n\, 28011\, Madrid\, Madrid\, 28011\, España
CATEGORIES:Competiciones,Triatlón
ATTACH;FMTTYPE=image/png:https://www.clubtrinat.com/wordpress/wp-content/uploads/2026/04/Captura-de-pantalla-2026-04-20-a-las-12.21.48.png
END:VEVENT
BEGIN:VEVENT
DTSTART;TZID=Europe/Madrid:20260426T080000
DTEND;TZID=Europe/Madrid:20260426T170000
DTSTAMP:20260425T150012
CREATED:20251015T092104Z
LAST-MODIFIED:20260123T083825Z
UID:7675-1777190400-1777222800@www.clubtrinat.com
SUMMARY:Rock and Roll Madrid 2026
DESCRIPTION:La ASOCIACIÓN DEPORTIVA MAPOMA (CIF G78184678)\, con domicilio social en la calle Aniceto Marinas 52\, 28008 Madrid\, junto con ELIPSE INCIATIVAS SL (CIF B81497695)\, con domicilio social en la calle Invención 6\, 28906 Getafe\, organizan el Zurich Rock´n´Roll Running Series Madrid distancia Maratón\, que se celebrará en la ciudad de Madrid el próximo 26 de abril de 2026. \nEste evento de ROCK´N´ROLL es operado por un licenciatario independiente de WORLD TRIATHLON CORPORATION\, y las marcas de servicio ROCK´N´ROLL se utilizan bajo autorización. \nTrinaters inscritos:Maratón: Diego\, \n                                       Media Maratón: Victor\, Joaquin\,
URL:https://www.clubtrinat.com/evento/rock-and-roll-madrid-2026/
LOCATION:Madrid\, C/ Lozano 2\, Madrid\, Madrid\, Spain
CATEGORIES:Competiciones,Media Maratón
ATTACH;FMTTYPE=image/png:https://www.clubtrinat.com/wordpress/wp-content/uploads/2025/10/Captura-de-pantalla-2025-10-15-a-las-11.15.42.png
END:VEVENT
BEGIN:VEVENT
DTSTART;TZID=Europe/Madrid:20260509T110000
DTEND;TZID=Europe/Madrid:20260509T150000
DTSTAMP:20260425T150012
CREATED:20260420T101835Z
LAST-MODIFIED:20260420T101836Z
UID:7989-1778324400-1778338800@www.clubtrinat.com
SUMMARY:XVI Trail Romancos
DESCRIPTION:El XVI Trail Romancos\, Alcarria Verde contará con las siguientes pruebas: \n\nPrueba principal – 18 km\nPrueba de Iniciación – 9 km\nPrueba de Marcha-Senderismo – 7 km\nPruebas infantiles de 100\, 400\, 800 y 1.500 m\n\nLa prueba Principal se disputará sobre una distancia de aproximadamente 18 km\, sobre un circuito de campo a través exigente pero asequible\, donde la belleza del trazado con la combinación de la vegetación propia de la Alcarria\, árboles\, caminos\, laderas\, lindes y sembrados\, la hará tan especial como siempre. \nTrinaters inscritos: Jaime\,
URL:https://www.clubtrinat.com/evento/xvi-trail-romancos/
LOCATION:Alcarria
CATEGORIES:Competiciones,Trail
ATTACH;FMTTYPE=image/jpeg:https://www.clubtrinat.com/wordpress/wp-content/uploads/2026/04/PHOTO-2026-04-18-13-36-38.jpg
END:VEVENT
BEGIN:VEVENT
DTSTART;VALUE=DATE:20260515
DTEND;VALUE=DATE:20260518
DTSTAMP:20260425T150012
CREATED:20251126T082526Z
LAST-MODIFIED:20260202T120759Z
UID:7791-1778803200-1779062399@www.clubtrinat.com
SUMMARY:Finde Trinat 2
DESCRIPTION:¡¡¡Nos alegra poder anunciarte que nuestro Finde Trinat 2 ya está aquí!!! Este año se celebrará en Trabadelo\, pleno corazón de El Bierzo.\n\n\n\nDespués del éxito del evento pasado y de la buena acogida\, lanzamos de nuevo nuestro campus.\n\n\n\n¿En qué consiste un Finde Trinat?\n\n\nSe trata de un fin de semana en el que desarrollaremos entrenamientos específicos de nuestro deporte como son: una ruta cicloturista\, un de carrera\, una travesía y por supuesto nuestra actividad estrella la Olimpiada por equipos\, que la edición pasada se llevó todos los reconocimientos.\n\n\n\nTodo ello como siempre garantizando vuestra seguridad.\n\n\n\nComplementaremos estas actividades con visitas culturales y gastronómicas todo ello cómo más nos gusta «en familia» . Así es el buen rollo que te vas a encontrar!\n\n\n\n¿Cuándo?\n\n\nSe celebrará los días 15\, 16 y 17 de Mayo de 2026.\n\n\n\n¿Dónde?\n\n\nEn Trabadelo\, pleno corazón de El Bierzo (León).\n\n\n\n¿En qué consiste?\n\n\nNuestro Finde Trinat persigue que puedas ganar experiencia con entrenamientos específicos dirigidos por profesionales del deporte. Queremos que disfrutes de una experiencia inolvidable\, en la que combinaremos entrenamientos deportivos con otras actividades que nos harán disfrutar de la naturaleza y el deporte.\n\n\n\nSe trata de un fin de semana (empezamos el viernes a las 16:00) en el que realizaremos entrenamientos como son una ruta cicloturista (contaremos con varias distancias para adaptarnos a tu nivel)\, un entrenamiento de carrera\, una travesía a nado…\n\n\n(NO es necesario tener experiencia\, ni pertenecer a nuestro club para inscribirse).\n\n\n\n¿Qué nivel físico necesito tener?\n\n\nNuestro Finde Trinat 2\, está dirigido tanto a deportistas que practiquen triatlón como a tod@s aquell@s personas que quieran disfrutar al máximo de una experiencia diferente. En todos los entrenamientos disponemos de una opción más suave y asequible para aquellas personas que se están iniciando.\n\n\n\n\n\n¿Cómo INSCRÍBIRSE?\n\n\nEntra en nuestra web www.clubtrinat.com y ahí encontraras el formulario de inscripción junto con toda la INFO.
URL:https://www.clubtrinat.com/evento/finde-trinat-2/
LOCATION:Trabadelo\, Trabadelo\, El Bierzo\, Spain
CATEGORIES:Trinat Experience
ATTACH;FMTTYPE=image/jpeg:https://www.clubtrinat.com/wordpress/wp-content/uploads/2026/02/Copia-de-clubtrinat-2.jpg
END:VEVENT
BEGIN:VEVENT
DTSTART;VALUE=DATE:20260530
DTEND;VALUE=DATE:20260601
DTSTAMP:20260425T150012
CREATED:20251128T092254Z
LAST-MODIFIED:20260119T085137Z
UID:7824-1780099200-1780271999@www.clubtrinat.com
SUMMARY:Epic Triatlón 2026
DESCRIPTION:SCOTT MEDITERRANEAN EPIC TRIATHLON\n\n\n\n30-31 MAYO 2026\nEl sábado podrás disfrutar de las distancias en triatlón FULL y HALF\, así como AQUABIKE LD Y MD. Y el domingo las distancias OLÍMPICA y SPRINT. \n¡Queremos que la fiesta del triatlón sea completa\, y que todo tu club venga a disfrutar de este increíble fin de semana! \n\nTrinaters inscritos: Half: Gas\,  \n                                        Olímpico: Victor\,  \n                                        Sprint: Jaime\, Rober\, Beiña
URL:https://www.clubtrinat.com/evento/epic-triatlon-2026-2/
LOCATION:Oropesa del mar\, España
CATEGORIES:Competiciones,Medio Ironman,Triatlón
ATTACH;FMTTYPE=image/png:https://www.clubtrinat.com/wordpress/wp-content/uploads/2025/11/Captura-de-pantalla-2025-11-28-a-las-10.19.17.png
END:VEVENT
BEGIN:VEVENT
DTSTART;TZID=Europe/Madrid:20260531T080000
DTEND;TZID=Europe/Madrid:20260531T120000
DTSTAMP:20260425T150012
CREATED:20251126T090759Z
LAST-MODIFIED:20251126T090759Z
UID:7809-1780214400-1780228800@www.clubtrinat.com
SUMMARY:Epic Triatlón 2026
DESCRIPTION:SCOTT MEDITERRANEAN EPIC TRIATHLON\n\n\n\n30-31 MAYO 2026\nFULL – HALF – OLÍMPICO – SPRINT – AQUABIKE FULL y HALF\n\n\n¡ Inscribirme YA !\n\nCANDIDATA A CAMPEONATO DE ESPAÑA DE TRIATLÓN DE LARGA DISTANCIA 2026 \n\n\n*Sede pendiente de adjudicación por parte de Federación Española de Triatlón \nCANDIDATA A CAMPEONATO AUTONÓMICO DE TRIATLÓN DE LARGA DISTANCIA 2026\n*Sede pendiente de adjudicación por parte de Federación Valenciana de Triatlón \nTrinaters inscritos: Victor\,
URL:https://www.clubtrinat.com/evento/epic-triatlon-2026/
LOCATION:Oropesa del mar\, España
CATEGORIES:Competiciones,Triatlón
ATTACH;FMTTYPE=image/png:https://www.clubtrinat.com/wordpress/wp-content/uploads/2025/11/Captura-de-pantalla-2025-11-26-a-las-10.07.08.png
END:VEVENT
BEGIN:VEVENT
DTSTART;TZID=Europe/Madrid:20260606T080000
DTEND;TZID=Europe/Madrid:20260606T170000
DTSTAMP:20260425T150012
CREATED:20251114T085312Z
LAST-MODIFIED:20251114T085329Z
UID:7734-1780732800-1780765200@www.clubtrinat.com
SUMMARY:Desafío Lagos de Covadonga 26
DESCRIPTION:Unipublic S.A.U. organiza la Marcha Ciclo Deportiva Desafío Lagos de que tendrá lugar el sábado 6 de junio de 2026\, con salida en la Avda. de Covadonga de Cangas de Onís. \nLa marcha Ciclo Deportiva Desafío Lagos de Covadonga es una prueba regulada en el artículo 9 del Reglamento de Cicloturismo – Ciclismo de la RFEC\, dentro del marco de una especialidad ciclista que concibe este deporte como un ejercicio físico con fines de ocio y turístico o culturales\, excluyendo la competición. La prueba estará sometida a las disposiciones de los artículos 15 y siguientes del anexo II del Real Decreto 1428/2003\, de 21 de noviembre\, por el que se aprueba el Reglamento General de Circulación para la aplicación y desarrollo del texto articulado de la Ley sobre tráfico\, circulación de vehículos de motor y seguridad vial\, aprobado por el Real Decreto Legislativo 339/1990\, de 2 marzo. \n\nLa salida se dará el sábado 6 de junio a las 8:00 horas.\nEl cierre de control se realizará el sábado 6 de junio a las 15:00 horas.\n\nTrinaters inscritos: Tato\, Diego
URL:https://www.clubtrinat.com/evento/desafio-lagos-de-covadonga-2/
LOCATION:Lagos de Covadonga\, Asturias\, Asturias\, España
CATEGORIES:Ciclismo,Competiciones
ATTACH;FMTTYPE=image/png:https://www.clubtrinat.com/wordpress/wp-content/uploads/2025/11/Captura-de-pantalla-2025-11-14-a-las-9.52.38.png
END:VEVENT
BEGIN:VEVENT
DTSTART;TZID=Europe/Madrid:20260607T073000
DTEND;TZID=Europe/Madrid:20260607T083000
DTSTAMP:20260425T150012
CREATED:20260420T122604Z
LAST-MODIFIED:20260420T122604Z
UID:7997-1780817400-1780821000@www.clubtrinat.com
SUMMARY:XXVIII TRIATLÓN VILLA DE ESTEPONA
DESCRIPTION:Fecha de la competición:\n\n\n\nDomingo\, 07 junio 2026\n\n\n\n– 09:00h.\n\n\n\n\nApertura de inscripciones: El martes 7 de abril a las 10:30 horas.\n\n\n\n\nCierre de inscripciones: El lunes 1 de junio a las 23:59 horas.\n\n\n\n\nPrecios: 30 € Fed // 40 € No Fed\n\n\n\n\n\n\n\n\n\n\n\n\n\n\n\n\n\n\n\n\nProvincia: Málaga\nModalidad: Triatlón\nCategoría: Circuito Provincial\nDistancia: Sprint\n\nTrinaters inscritos: Raúl B.
URL:https://www.clubtrinat.com/evento/xxviii-triatlon-villa-de-estepona/
LOCATION:Estepona\, Málaga\, Malaga\, Spain
CATEGORIES:Competiciones,Triatlón
ATTACH;FMTTYPE=image/png:https://www.clubtrinat.com/wordpress/wp-content/uploads/2026/04/Captura-de-pantalla-2026-04-20-a-las-14.23.23.png
END:VEVENT
BEGIN:VEVENT
DTSTART;TZID=Europe/Madrid:20260607T080000
DTEND;TZID=Europe/Madrid:20260607T170000
DTSTAMP:20260425T150012
CREATED:20260424T074659Z
LAST-MODIFIED:20260424T074659Z
UID:8003-1780819200-1780851600@www.clubtrinat.com
SUMMARY:Triatlón de Sevilla 26
DESCRIPTION:XXIX Triatlón de Sevilla se prevé una temperatura del agua de 24ºC\, por lo que el neopreno puede ser optativo. Aunque hasta el día de la prueba\, 1hora antes de la salida no se establecerá la decisión final una vez el Delegado Técnico de la prueba mida la temperatura del agua. \nTrinaters inscritos: Adrián \n 
URL:https://www.clubtrinat.com/evento/triatlon-de-sevilla-26/
LOCATION:Sevilla\, Sevilla\, España
CATEGORIES:Triatlón
ATTACH;FMTTYPE=image/png:https://www.clubtrinat.com/wordpress/wp-content/uploads/2026/04/Captura-de-pantalla-2026-04-24-a-las-9.45.04.png
END:VEVENT
BEGIN:VEVENT
DTSTART;TZID=Europe/Madrid:20260613T100000
DTEND;TZID=Europe/Madrid:20260613T170000
DTSTAMP:20260425T150012
CREATED:20251222T082204Z
LAST-MODIFIED:20251222T082204Z
UID:7872-1781344800-1781370000@www.clubtrinat.com
SUMMARY:10º Aniversario Trinat
DESCRIPTION:Este año se cumplen 10 años desde que nos aventuramos a escribir nuestra historia. Un periodo que bien se merece una celebración por todo lo alto. \nAsí que estamos preparando un evento a la altura de los acontecimientos\, No te lo pierdas!!!
URL:https://www.clubtrinat.com/evento/10o-aniversario-trinat/
LOCATION:Dehesa de la Villa
CATEGORIES:Trinat Experience
ATTACH;FMTTYPE=image/jpeg:https://www.clubtrinat.com/wordpress/wp-content/uploads/2025/12/10o-2.jpg
END:VEVENT
BEGIN:VEVENT
DTSTART;VALUE=DATE:20260628
DTEND;VALUE=DATE:20260629
DTSTAMP:20260425T150012
CREATED:20260119T085756Z
LAST-MODIFIED:20260119T085757Z
UID:7890-1782604800-1782691199@www.clubtrinat.com
SUMMARY:31ª Marcha Ciclodeportiva Pedro Delgado
DESCRIPTION:Las inscripciones se realizarán únicamente a través de los formularios habilitados a tal efecto en www.pedrodelgado.com y www.youevent.es\, abonando los derechos de inscripción a través de la pasarela de pago propuesta por la organización en dichas páginas web hasta el 25 de junio de 2026\, salvo que se haya completado el máximo de participantes fijado en 2.000.\n\nLas inscripciones se consideran DEFINITIVAS por lo que en el caso de no poder participar no se realizará la devolución del importe de la misma (para causas de fuerza mayor ponerse en contacto con la organización). Las inscripciones son estrictamente personales e intransferibles y no pueden ser utilizadas por otra persona diferente de la inscrita. \n\nCoste de inscripción FEDERADOS 60 € hasta el 15 de febrero 2026\, y\nCoste de inscripción NO FEDERADOS (*) 74 €\n———————–\n\nCoste de inscripción FEDERADOS 70 € hasta el 19 de abril 2026\nCoste de inscripción NO FEDERADOS (*) 84 €\n———————–\nCoste de inscripción FEDERADOS 80 € desde 26 de junio 2026\nCoste de inscripción NO FEDERADOS (*) 94 €\n* coste licencia de un día 14€\n\n\nTrinaters inscritos: Diego\, Marcos
URL:https://www.clubtrinat.com/evento/31a-marcha-ciclodeportiva-pedro-delgado/
LOCATION:Segovia\, España
CATEGORIES:Ciclismo,Competiciones
ATTACH;FMTTYPE=image/png:https://www.clubtrinat.com/wordpress/wp-content/uploads/2026/01/Captura-de-pantalla-2026-01-19-a-las-9.56.13.png
END:VEVENT
BEGIN:VEVENT
DTSTART;TZID=Europe/Madrid:20260704T080000
DTEND;TZID=Europe/Madrid:20260704T130000
DTSTAMP:20260425T150012
CREATED:20260420T123053Z
LAST-MODIFIED:20260420T123054Z
UID:8000-1783152000-1783170000@www.clubtrinat.com
SUMMARY:Mediterranea triatlón Castellón 26
DESCRIPTION:4/5 DE JULIO 2026 | PLAYA DEL PLANETARIO | GRAO DE CASTELLÓN \nZONA CERO COMPETICIÓN >> BOX – ENTREGA DORSALES – EXPO << CAMPO DE FÚTBOL JAVIER MARQUINA (CASTELLÓN) \n\nSábado  \n\nSprint\nDuatlón familiar\n\n\nDomingo  \n\nOlímpico\nSupersprint\n\n\n\nTrinaters inscritos: Matteo\, Victor
URL:https://www.clubtrinat.com/evento/mediterranea-triatlon-castellon-26/
LOCATION:Castellon\, Castellon\, Comunidad Valenciana\, España
CATEGORIES:Competiciones,Triatlón
ATTACH;FMTTYPE=image/png:https://www.clubtrinat.com/wordpress/wp-content/uploads/2026/04/Captura-de-pantalla-2026-04-20-a-las-14.30.30.png
END:VEVENT
BEGIN:VEVENT
DTSTART;TZID=Europe/Madrid:20260712T072000
DTEND;TZID=Europe/Madrid:20260712T140000
DTSTAMP:20260425T150012
CREATED:20251119T085229Z
LAST-MODIFIED:20251119T085243Z
UID:7756-1783840800-1783864800@www.clubtrinat.com
SUMMARY:Ironman 70.3 Victoria-Gasteiz
DESCRIPTION:IRONMAN 70.3 Vitoria-Gasteiz invites you to the spectacular cultural capital of northern Spain’s Basque Country! With almost two decade of triathlon heritage\, Vitoria-Gasteiz is a well-known triathlon playground offering astonishing natural landscapes\, rich culture\, unforgettable Basque gastronomy\, and the most passionate and vibrant fans that will encourage you until the finish line. \nTrinaters inscritos: Joaquin\, 
URL:https://www.clubtrinat.com/evento/ironman-70-3-victoria/
LOCATION:Victoria\, Victoria\, Victoria\, Spain
CATEGORIES:Competiciones,Medio Ironman,Triatlón
ATTACH;FMTTYPE=image/png:https://www.clubtrinat.com/wordpress/wp-content/uploads/2025/11/Captura-de-pantalla-2025-11-19-a-las-9.49.32.png
END:VEVENT
BEGIN:VEVENT
DTSTART;TZID=Europe/Madrid:20261129T090000
DTEND;TZID=Europe/Madrid:20261129T120000
DTSTAMP:20260425T150012
CREATED:20260220T093722Z
LAST-MODIFIED:20260220T093722Z
UID:7950-1795942800-1795953600@www.clubtrinat.com
SUMMARY:Media Maratón Sevilla 2026
DESCRIPTION:Medio Maratón de Sevilla Create SL organiza y promueve la 32ª edición del Medio Maratón de Sevilla con la colaboración del CLUB DE ATLETISMO SAN PABLO fundador de la prueba \, que se celebrará el día 29 de noviembre de 2026\, pudiendo participar toda aquella persona que tenga 18 años en dicha fecha\, sin distinción de sexo o nacionalidad y cumplan con la normativa de la RFEA\, FAA\, AIMS y la World Athletics. \nARTÍCULO 2º. Características.\nEl circuito tiene una longitud de 21.097 metros\, homologada por la Real Federación Española de Atletismo y la World Athletics. La Salida y la Meta se encuentran situadas en el Paseo de las Delicias. Se realizará por terreno asfáltico y pavimentado. \nLa carrera comenzará a las 09:00 horas\, el tiempo máximo para la realización de la prueba será de 3 horas\, cerrándose la meta a las 12:10 horas. \nTrinaters inscrit@s: María\, Alejandra\,
URL:https://www.clubtrinat.com/evento/media-maraton-sevilla-2026/
LOCATION:Sevilla\, España
CATEGORIES:Competiciones,Media Maratón
ATTACH;FMTTYPE=image/png:https://www.clubtrinat.com/wordpress/wp-content/uploads/2026/02/Captura-de-pantalla-2026-02-20-a-las-10.33.01.png
END:VEVENT
BEGIN:VEVENT
DTSTART;TZID=Europe/Madrid:20261206T081500
DTEND;TZID=Europe/Madrid:20261206T133000
DTSTAMP:20260425T150012
CREATED:20260119T090222Z
LAST-MODIFIED:20260119T090222Z
UID:7894-1796544900-1796563800@www.clubtrinat.com
SUMMARY:Maratón Valencia 2026
DESCRIPTION:46º MARATÓN VALENCIA TRINIDAD ALFONSO ZURICH \n\nLa S.D. Correcaminos\, con el apoyo institucional del Ajuntament de València\, y la colaboración del OAM Fundación Deportiva Municipal del Ajuntament de Valencia\, organiza el 46º Maratón Valencia Trinidad Alfonso Zurich el domingo 6 de diciembre de 2026. \nNotificaciones: Todas las comunicaciones al corredor se realizarán a través del correo electrónico facilitado por el participante en el momento de su inscripción o registro\, o en el correo electrónico modificado posteriormente a través del procedimiento habilitado por la Organización a tal efecto\, en el supuesto que haya decidido modificarlo. Por tanto\, una vez realizada la comunicación por parte de la Organización\, es responsabilidad del corredor revisar su correo electrónico para estar al tanto de la misma. \nAsimismo\, los atletas se comprometen expresamente a seguir las instrucciones y restricciones que se le impongan de acuerdo con la dirección sanitaria del evento. \n\nTrinaters inscritos: Victor\,
URL:https://www.clubtrinat.com/evento/maraton-valencia-2026/
LOCATION:Valencia
CATEGORIES:Competiciones,Marathon
ATTACH;FMTTYPE=image/png:https://www.clubtrinat.com/wordpress/wp-content/uploads/2026/01/Captura-de-pantalla-2026-01-19-a-las-9.59.05.png
END:VEVENT
END:VCALENDAR