BEGIN:VCALENDAR
VERSION:2.0
PRODID:-//Club Trinat - ECPv6.15.15//NONSGML v1.0//EN
CALSCALE:GREGORIAN
METHOD:PUBLISH
X-ORIGINAL-URL:https://www.clubtrinat.com
X-WR-CALDESC:Eventos para Club Trinat
REFRESH-INTERVAL;VALUE=DURATION:PT1H
X-Robots-Tag:noindex
X-PUBLISHED-TTL:PT1H
BEGIN:VTIMEZONE
TZID:Europe/Madrid
BEGIN:DAYLIGHT
TZOFFSETFROM:+0100
TZOFFSETTO:+0200
TZNAME:CEST
DTSTART:20250330T010000
END:DAYLIGHT
BEGIN:STANDARD
TZOFFSETFROM:+0200
TZOFFSETTO:+0100
TZNAME:CET
DTSTART:20251026T010000
END:STANDARD
BEGIN:DAYLIGHT
TZOFFSETFROM:+0100
TZOFFSETTO:+0200
TZNAME:CEST
DTSTART:20260329T010000
END:DAYLIGHT
BEGIN:STANDARD
TZOFFSETFROM:+0200
TZOFFSETTO:+0100
TZNAME:CET
DTSTART:20261025T010000
END:STANDARD
BEGIN:DAYLIGHT
TZOFFSETFROM:+0100
TZOFFSETTO:+0200
TZNAME:CEST
DTSTART:20270328T010000
END:DAYLIGHT
BEGIN:STANDARD
TZOFFSETFROM:+0200
TZOFFSETTO:+0100
TZNAME:CET
DTSTART:20271031T010000
END:STANDARD
END:VTIMEZONE
BEGIN:VEVENT
DTSTART;TZID=Europe/Madrid:20261206T081500
DTEND;TZID=Europe/Madrid:20261206T133000
DTSTAMP:20260426T012930
CREATED:20260119T090222Z
LAST-MODIFIED:20260119T090222Z
UID:7894-1796544900-1796563800@www.clubtrinat.com
SUMMARY:Maratón Valencia 2026
DESCRIPTION:46º MARATÓN VALENCIA TRINIDAD ALFONSO ZURICH \n\nLa S.D. Correcaminos\, con el apoyo institucional del Ajuntament de València\, y la colaboración del OAM Fundación Deportiva Municipal del Ajuntament de Valencia\, organiza el 46º Maratón Valencia Trinidad Alfonso Zurich el domingo 6 de diciembre de 2026. \nNotificaciones: Todas las comunicaciones al corredor se realizarán a través del correo electrónico facilitado por el participante en el momento de su inscripción o registro\, o en el correo electrónico modificado posteriormente a través del procedimiento habilitado por la Organización a tal efecto\, en el supuesto que haya decidido modificarlo. Por tanto\, una vez realizada la comunicación por parte de la Organización\, es responsabilidad del corredor revisar su correo electrónico para estar al tanto de la misma. \nAsimismo\, los atletas se comprometen expresamente a seguir las instrucciones y restricciones que se le impongan de acuerdo con la dirección sanitaria del evento. \n\nTrinaters inscritos: Victor\,
URL:https://www.clubtrinat.com/evento/maraton-valencia-2026/
LOCATION:Valencia
CATEGORIES:Competiciones,Marathon
ATTACH;FMTTYPE=image/png:https://www.clubtrinat.com/wordpress/wp-content/uploads/2026/01/Captura-de-pantalla-2026-01-19-a-las-9.59.05.png
END:VEVENT
END:VCALENDAR